BEGIN:VCALENDAR
VERSION:2.0
PRODID:-//ApHV - ECPv6.11.2//NONSGML v1.0//EN
CALSCALE:GREGORIAN
METHOD:PUBLISH
X-ORIGINAL-URL:https://www.histoire-vivante.org
X-WR-CALDESC:Évènements pour ApHV
REFRESH-INTERVAL;VALUE=DURATION:PT1H
X-Robots-Tag:noindex
X-PUBLISHED-TTL:PT1H
BEGIN:VTIMEZONE
TZID:Europe/Paris
BEGIN:DAYLIGHT
TZOFFSETFROM:+0100
TZOFFSETTO:+0200
TZNAME:CEST
DTSTART:20130331T010000
END:DAYLIGHT
BEGIN:STANDARD
TZOFFSETFROM:+0200
TZOFFSETTO:+0100
TZNAME:CET
DTSTART:20131027T010000
END:STANDARD
END:VTIMEZONE
BEGIN:VEVENT
DTSTART;VALUE=DATE:20130602
DTEND;VALUE=DATE:20130826
DTSTAMP:20260425T225424
CREATED:20190206T065227Z
LAST-MODIFIED:20190207T162719Z
UID:11181-1370131200-1377475199@www.histoire-vivante.org
SUMMARY:Animations médiévales\, Domrémy-la-Pucelle (88)
DESCRIPTION:Animations médiévales \nDans le cadre de l’exposition « Le Jardin au Moyen Age » \nGalerie photo \n\n  \n    \n\n  \n			\n				\n            					\n  						\n							\n															\n  							  							  						\n  						  					\n          					\n					\n\n					\n										\n						Animations médiévales\, Domrémy-la-Pucelle 2013
URL:https://www.histoire-vivante.org/evenement/animations-medievales-domremy-la-pucelle-88-2013
LOCATION:Centre d’Interprétation Visages de Jeanne\, Domrémy la Pucelle\, 88630\, France
CATEGORIES:Autres évènements
ATTACH;FMTTYPE=image/jpeg:https://www.histoire-vivante.org/wp-content/uploads/Affiche-40-e1549435920467.jpg
END:VEVENT
BEGIN:VEVENT
DTSTART;VALUE=DATE:20130706
DTEND;VALUE=DATE:20130708
DTSTAMP:20260425T225424
CREATED:20190205T145619Z
LAST-MODIFIED:20190207T165113Z
UID:11153-1373068800-1373241599@www.histoire-vivante.org
SUMMARY:Les Médiévales\, Bayeux (14)
DESCRIPTION:Fête médiévale \nThème: « Les Bâtisseurs Médiévaux » \nGalerie photo \n\n  \n    \n\n  \n			\n				\n            					\n  						\n							\n															\n  							  							  						\n  						  					\n          					\n					\n\n					\n										\n						Les Médiévales\, Bayeux 2013
URL:https://www.histoire-vivante.org/evenement/les-medievales-bayeux-14-2013
LOCATION:Bayeux\, Bayeux\, 14400\, France
CATEGORIES:Autres évènements
ATTACH;FMTTYPE=image/jpeg:https://www.histoire-vivante.org/wp-content/uploads/Affiche-35-e1549378554193.jpg
END:VEVENT
BEGIN:VEVENT
DTSTART;VALUE=DATE:20130706
DTEND;VALUE=DATE:20130715
DTSTAMP:20260425T225424
CREATED:20190206T083540Z
LAST-MODIFIED:20190207T164022Z
UID:11220-1373068800-1373846399@www.histoire-vivante.org
SUMMARY:Animations médiévales\, FLIP\, Parthenay (79)
DESCRIPTION:Animations médiévales \nDans le cadre du Festival Ludique International de Parthenay (FLIP) \nGalerie photo \n\n  \n    \n\n  \n			\n				\n            					\n  						\n							\n															\n  							  							  						\n  						  					\n          					\n					\n\n					\n										\n						Animations médiévales\, FLIP\, Parthenay 2013
URL:https://www.histoire-vivante.org/evenement/animations-medievales-flip-parthenay-79-2013
LOCATION:Parthenay\, Parthenay\, 79200\, France
CATEGORIES:Autres évènements
ATTACH;FMTTYPE=image/jpeg:https://www.histoire-vivante.org/wp-content/uploads/Affiche-46-e1549442049280.jpg
END:VEVENT
BEGIN:VEVENT
DTSTART;VALUE=DATE:20130718
DTEND;VALUE=DATE:20130830
DTSTAMP:20260425T225424
CREATED:20190205T145204Z
LAST-MODIFIED:20190207T170315Z
UID:11150-1374105600-1377820799@www.histoire-vivante.org
SUMMARY:Animations XIXème siècle\, Mine Témoin\, Alès (30)
DESCRIPTION:Animations XIXème siècle \nGalerie photo \n\n  \n    \n\n  \n			\n				\n            					\n  						\n							\n															\n  							  							  						\n  						  					\n          					\n					\n\n					\n										\n						Animations XIXème siècle\, Mine Témoin\, Alès 2013
URL:https://www.histoire-vivante.org/evenement/animations-xixeme-siecle-mine-temoin-ales-30-2013
LOCATION:Alès\, Alès\, 30100\, France
CATEGORIES:Autres évènements
ATTACH;FMTTYPE=image/jpeg:https://www.histoire-vivante.org/wp-content/uploads/Affiche-34-e1549378259830.jpg
END:VEVENT
BEGIN:VEVENT
DTSTART;VALUE=DATE:20130720
DTEND;VALUE=DATE:20130722
DTSTAMP:20260425T225424
CREATED:20190205T151431Z
LAST-MODIFIED:20190208T103120Z
UID:11169-1374278400-1374451199@www.histoire-vivante.org
SUMMARY:L'Aventure Dragons\, Chinon (37)
DESCRIPTION:Animations médiévales et fantastiques \nDans le cadre de l’exposition « Dragons! » \nGalerie photo \n\n  \n    \n\n  \n			\n				\n            					\n  						\n							\n															\n  							  							  						\n  						  					\n          					\n					\n\n					\n										\n						L’Aventure Dragons\, Chinon 2013
URL:https://www.histoire-vivante.org/evenement/l-aventure-dragons-chinon-37-2013
LOCATION:Forteresse Royale de Chinon\, Rue du Château\, Chinon\, 37500\, France
CATEGORIES:Autres évènements
ATTACH;FMTTYPE=image/jpeg:https://www.histoire-vivante.org/wp-content/uploads/Affiche-37-e1549379640183.jpg
END:VEVENT
END:VCALENDAR