BEGIN:VCALENDAR
VERSION:2.0
PRODID:-//ApHV - ECPv6.11.2//NONSGML v1.0//EN
CALSCALE:GREGORIAN
METHOD:PUBLISH
X-WR-CALNAME:ApHV
X-ORIGINAL-URL:https://www.histoire-vivante.org
X-WR-CALDESC:Évènements pour ApHV
REFRESH-INTERVAL;VALUE=DURATION:PT1H
X-Robots-Tag:noindex
X-PUBLISHED-TTL:PT1H
BEGIN:VTIMEZONE
TZID:Europe/Paris
BEGIN:DAYLIGHT
TZOFFSETFROM:+0100
TZOFFSETTO:+0200
TZNAME:CEST
DTSTART:20130331T010000
END:DAYLIGHT
BEGIN:STANDARD
TZOFFSETFROM:+0200
TZOFFSETTO:+0100
TZNAME:CET
DTSTART:20131027T010000
END:STANDARD
END:VTIMEZONE
BEGIN:VEVENT
DTSTART;VALUE=DATE:20131026
DTEND;VALUE=DATE:20131028
DTSTAMP:20260425T180308
CREATED:20190206T062603Z
LAST-MODIFIED:20190211T103956Z
UID:11176-1382745600-1382918399@www.histoire-vivante.org
SUMMARY:Animations multi-époques\, Corbeil-Essonnes (91)
DESCRIPTION:Animations multi-époques \nDans le cadre de l’exposition « Corbeil sous Henri IV: la ville assiégée » \nGalerie photo \n\n  \n    \n\n  \n			\n				\n            					\n  						\n							\n															\n  							  							  						\n  						  					\n          					\n					\n\n					\n										\n						Animations multi-époques\, Corbeil-Essonnes 2013
URL:https://www.histoire-vivante.org/evenement/animations-multi-epoques-corbeil-essonnes-91-2013
LOCATION:Commanderie Saint-Jean\, 24 Rue Widmer\, Corbeil-Essonnes\, 91100\, France
CATEGORIES:Autres évènements
ATTACH;FMTTYPE=image/jpeg:https://www.histoire-vivante.org/wp-content/uploads/Affiche-39-e1549434182886.jpg
END:VEVENT
END:VCALENDAR