BEGIN:VCALENDAR
VERSION:2.0
PRODID:-//ApHV - ECPv6.11.2//NONSGML v1.0//EN
CALSCALE:GREGORIAN
METHOD:PUBLISH
X-ORIGINAL-URL:https://www.histoire-vivante.org
X-WR-CALDESC:Évènements pour ApHV
REFRESH-INTERVAL;VALUE=DURATION:PT1H
X-Robots-Tag:noindex
X-PUBLISHED-TTL:PT1H
BEGIN:VTIMEZONE
TZID:Europe/Paris
BEGIN:DAYLIGHT
TZOFFSETFROM:+0100
TZOFFSETTO:+0200
TZNAME:CEST
DTSTART:20140330T010000
END:DAYLIGHT
BEGIN:STANDARD
TZOFFSETFROM:+0200
TZOFFSETTO:+0100
TZNAME:CET
DTSTART:20141026T010000
END:STANDARD
END:VTIMEZONE
BEGIN:VEVENT
DTSTART;VALUE=DATE:20140705
DTEND;VALUE=DATE:20140707
DTSTAMP:20260423T055243
CREATED:20190123T085239Z
LAST-MODIFIED:20190124T113058Z
UID:10061-1404518400-1404691199@www.histoire-vivante.org
SUMMARY:Les Médiévales\, Bayeux (14)
DESCRIPTION:Fête médiévale \nThème: « D’une conquête à l’autre » \nGalerie photo \n\n  \n    \n\n  \n			\n				\n            					\n  						\n							\n															\n  							  							  						\n  						  					\n          					\n					\n\n					\n										\n						Les Médiévales\, Bayeux 2014
URL:https://www.histoire-vivante.org/evenement/les-medievales-bayeux-14-2014
LOCATION:Bayeux\, Bayeux\, 14400\, France
CATEGORIES:Autres évènements
ATTACH;FMTTYPE=image/jpeg:https://www.histoire-vivante.org/wp-content/uploads/Affiche-25-e1548233531365.jpg
END:VEVENT
BEGIN:VEVENT
DTSTART;VALUE=DATE:20140712
DTEND;VALUE=DATE:20140721
DTSTAMP:20260423T055243
CREATED:20190123T104652Z
LAST-MODIFIED:20190124T133259Z
UID:10123-1405123200-1405900799@www.histoire-vivante.org
SUMMARY:Animations médiévales\, FLIP\, Parthenay (79)
DESCRIPTION:Animations médiévales \nDans le cadre du Festival Ludique International de Parthenay (FLIP) \nGalerie photo \n\n  \n    \n\n  \n			\n				\n            					\n  						\n							\n															\n  							  							  						\n  						  					\n          					\n					\n\n					\n										\n						Animations médiévales\, FLIP\, Parthenay 2014
URL:https://www.histoire-vivante.org/evenement/animations-medievales-flip-parthenay-79-2014
LOCATION:Parthenay\, Parthenay\, 79200\, France
CATEGORIES:Autres évènements
ATTACH;FMTTYPE=image/jpeg:https://www.histoire-vivante.org/wp-content/uploads/Affiche-31-e1548240389672.jpg
END:VEVENT
BEGIN:VEVENT
DTSTART;VALUE=DATE:20140724
DTEND;VALUE=DATE:20140822
DTSTAMP:20260423T055243
CREATED:20190123T100548Z
LAST-MODIFIED:20190124T133945Z
UID:10096-1406160000-1408665599@www.histoire-vivante.org
SUMMARY:Animations XIXème siècle\, Mine Témoin\, Alès (30)
DESCRIPTION:Animations XIXème siècle \nGalerie photo \n\n  \n    \n\n  \n			\n				\n            					\n  						\n							\n															\n  							  							  						\n  						  					\n          					\n					\n\n					\n										\n						Animations XIXème siècle\, Mine Témoin\, Alès 2014
URL:https://www.histoire-vivante.org/evenement/animations-xixeme-siecle-mine-temoin-ales-30-2014
LOCATION:Alès\, Alès\, 30100\, France
CATEGORIES:Autres évènements
ATTACH;FMTTYPE=image/jpeg:https://www.histoire-vivante.org/wp-content/uploads/Boutefeu.jpg
END:VEVENT
END:VCALENDAR