BEGIN:VCALENDAR
VERSION:2.0
PRODID:-//ApHV - ECPv6.11.2//NONSGML v1.0//EN
CALSCALE:GREGORIAN
METHOD:PUBLISH
X-WR-CALNAME:ApHV
X-ORIGINAL-URL:https://www.histoire-vivante.org
X-WR-CALDESC:Évènements pour ApHV
REFRESH-INTERVAL;VALUE=DURATION:PT1H
X-Robots-Tag:noindex
X-PUBLISHED-TTL:PT1H
BEGIN:VTIMEZONE
TZID:Europe/Paris
BEGIN:DAYLIGHT
TZOFFSETFROM:+0100
TZOFFSETTO:+0200
TZNAME:CEST
DTSTART:20150329T010000
END:DAYLIGHT
BEGIN:STANDARD
TZOFFSETFROM:+0200
TZOFFSETTO:+0100
TZNAME:CET
DTSTART:20151025T010000
END:STANDARD
END:VTIMEZONE
BEGIN:VEVENT
DTSTART;VALUE=DATE:20150404
DTEND;VALUE=DATE:20151025
DTSTAMP:20260422T094557
CREATED:20190115T145835Z
LAST-MODIFIED:20190116T104126Z
UID:8614-1428105600-1445731199@www.histoire-vivante.org
SUMMARY:Animations médiévales\, Béziers (34)
DESCRIPTION:Animations médiévales \nGalerie photo \n\n  \n    \n\n  \n			\n				\n            					\n  						\n							\n															\n  							  							  						\n  						  					\n          					\n					\n\n					\n										\n						Animations médiévales\, Béziers 2015
URL:https://www.histoire-vivante.org/evenement/animations-medievales-beziers-34-2015
LOCATION:Béziers\, Allée Paul Riquet\, Béziers\, 34500\, France
CATEGORIES:Autres évènements
ATTACH;FMTTYPE=image/jpeg:https://www.histoire-vivante.org/wp-content/uploads/B®ziers-2015-Machina-8-e1547567898120.jpg
END:VEVENT
BEGIN:VEVENT
DTSTART;VALUE=DATE:20150722
DTEND;VALUE=DATE:20150827
DTSTAMP:20260422T094557
CREATED:20190115T085241Z
LAST-MODIFIED:20190116T144308Z
UID:8532-1437523200-1440633599@www.histoire-vivante.org
SUMMARY:Animations médiévales\, Chinon (37)
DESCRIPTION:Animations médiévales \nDans le cadre de l’exposition « La Légende du Roi Arthur » \nGalerie photo \n\n  \n    \n\n  \n			\n				\n            					\n  						\n							\n															\n  							  							  						\n  						  					\n          					\n					\n\n					\n										\n						Animations médiévales\, Chinon 2015
URL:https://www.histoire-vivante.org/evenement/animations-medievales-chinon-37-2015
LOCATION:Forteresse Royale de Chinon\, Rue du Château\, Chinon\, 37500\, France
CATEGORIES:Autres évènements
ATTACH;FMTTYPE=image/jpeg:https://www.histoire-vivante.org/wp-content/uploads/Affiche-16.jpg
END:VEVENT
BEGIN:VEVENT
DTSTART;VALUE=DATE:20150802
DTEND;VALUE=DATE:20150810
DTSTAMP:20260422T094557
CREATED:20190115T083820Z
LAST-MODIFIED:20190115T085941Z
UID:8526-1438473600-1439164799@www.histoire-vivante.org
SUMMARY:Taverne et banquets médiévaux\, Crèvecoeur-en-Auge (14)
DESCRIPTION:Taverne et banquets médiévaux \nDans le cadre des Médiévales de Crèvecoeur
URL:https://www.histoire-vivante.org/evenement/taverne-et-banquets-medievaux-crevecoeur-en-auge-14-2015
LOCATION:Château de Crèvecoeur\, Crèvecoeur-en-Auge\, 14340\, France
CATEGORIES:Autres évènements
ATTACH;FMTTYPE=image/jpeg:https://www.histoire-vivante.org/wp-content/uploads/Affiche-15-e1547541409126.jpg
END:VEVENT
BEGIN:VEVENT
DTSTART;VALUE=DATE:20150815
DTEND;VALUE=DATE:20150817
DTSTAMP:20260422T094557
CREATED:20190115T083158Z
LAST-MODIFIED:20190116T155748Z
UID:8521-1439596800-1439769599@www.histoire-vivante.org
SUMMARY:Animations médiévales\, Domrémy-la-Pucelle (88)
DESCRIPTION:Animations médiévales \nThème: « Les Bâtisseurs Médiévaux » \nGalerie photo \n\n  \n    \n\n  \n			\n				\n            					\n  						\n							\n															\n  							  							  						\n  						  					\n          					\n					\n\n					\n										\n						Animations médiévales\, Domrémy-la-Pucelle 2015
URL:https://www.histoire-vivante.org/evenement/animations-medievales-domremy-la-pucelle-88-2015
LOCATION:Centre d’Interprétation Visages de Jeanne\, Domrémy la Pucelle\, 88630\, France
CATEGORIES:Autres évènements
ATTACH;FMTTYPE=image/jpeg:https://www.histoire-vivante.org/wp-content/uploads/Affiche-14-e1547541082555.jpg
END:VEVENT
END:VCALENDAR