BEGIN:VCALENDAR
VERSION:2.0
PRODID:-//ApHV - ECPv6.11.2//NONSGML v1.0//EN
CALSCALE:GREGORIAN
METHOD:PUBLISH
X-WR-CALNAME:ApHV
X-ORIGINAL-URL:https://www.histoire-vivante.org
X-WR-CALDESC:Évènements pour ApHV
REFRESH-INTERVAL;VALUE=DURATION:PT1H
X-Robots-Tag:noindex
X-PUBLISHED-TTL:PT1H
BEGIN:VTIMEZONE
TZID:Europe/Paris
BEGIN:DAYLIGHT
TZOFFSETFROM:+0100
TZOFFSETTO:+0200
TZNAME:CEST
DTSTART:20160327T010000
END:DAYLIGHT
BEGIN:STANDARD
TZOFFSETFROM:+0200
TZOFFSETTO:+0100
TZNAME:CET
DTSTART:20161030T010000
END:STANDARD
END:VTIMEZONE
BEGIN:VEVENT
DTSTART;VALUE=DATE:20160915
DTEND;VALUE=DATE:20160919
DTSTAMP:20260421T134531
CREATED:20181129T165702Z
LAST-MODIFIED:20190205T150445Z
UID:7637-1473897600-1474243199@www.histoire-vivante.org
SUMMARY:Les Médiévales de Belleperche\, Cordes Tolosannes (82)
DESCRIPTION:Fête médiévale \nThème: « Les 10 Ans » \nGalerie photo \n\n  \n    \n\n  \n			\n				\n            					\n  						\n							\n															\n  							  							  						\n  						  					\n          					\n					\n\n					\n										\n						Les Médiévales\, Belleperche 2016
URL:https://www.histoire-vivante.org/evenement/les-medievales-de-belleperche-cordes-tolosannes-82-2016
LOCATION:Abbaye de Belleperche\, Abbaye de Belleperche\, Cordes Tolosannes\, 82700
CATEGORIES:Autres évènements
ATTACH;FMTTYPE=image/gif:https://www.histoire-vivante.org/wp-content/uploads/affiche-medievales-belleperche-2016.gif
END:VEVENT
END:VCALENDAR