BEGIN:VCALENDAR
VERSION:2.0
PRODID:-//ApHV - ECPv6.11.2//NONSGML v1.0//EN
CALSCALE:GREGORIAN
METHOD:PUBLISH
X-WR-CALNAME:ApHV
X-ORIGINAL-URL:https://www.histoire-vivante.org
X-WR-CALDESC:Évènements pour ApHV
REFRESH-INTERVAL;VALUE=DURATION:PT1H
X-Robots-Tag:noindex
X-PUBLISHED-TTL:PT1H
BEGIN:VTIMEZONE
TZID:Europe/Paris
BEGIN:DAYLIGHT
TZOFFSETFROM:+0100
TZOFFSETTO:+0200
TZNAME:CEST
DTSTART:20160327T010000
END:DAYLIGHT
BEGIN:STANDARD
TZOFFSETFROM:+0200
TZOFFSETTO:+0100
TZNAME:CET
DTSTART:20161030T010000
END:STANDARD
END:VTIMEZONE
BEGIN:VEVENT
DTSTART;VALUE=DATE:20161113
DTEND;VALUE=DATE:20161114
DTSTAMP:20260421T104422
CREATED:20181129T170855Z
LAST-MODIFIED:20190115T164442Z
UID:7641-1478995200-1479081599@www.histoire-vivante.org
SUMMARY:Animations multi-époques\, Corbeil-Essonnes (91)
DESCRIPTION:Animations multi-époques \nDans le cadre de la commémoration de la Grande Guerre
URL:https://www.histoire-vivante.org/evenement/animations-multi-epoques-corbeil-essonnes-91-2016
LOCATION:Commanderie Saint-Jean\, 24 Rue Widmer\, Corbeil-Essonnes\, 91100\, France
CATEGORIES:Autres évènements
ATTACH;FMTTYPE=image/jpeg:https://www.histoire-vivante.org/wp-content/uploads/Scalpel-e1547570617401.jpg
END:VEVENT
END:VCALENDAR