BEGIN:VCALENDAR
VERSION:2.0
PRODID:-//ApHV - ECPv6.11.2//NONSGML v1.0//EN
CALSCALE:GREGORIAN
METHOD:PUBLISH
X-WR-CALNAME:ApHV
X-ORIGINAL-URL:https://www.histoire-vivante.org
X-WR-CALDESC:Évènements pour ApHV
REFRESH-INTERVAL;VALUE=DURATION:PT1H
X-Robots-Tag:noindex
X-PUBLISHED-TTL:PT1H
BEGIN:VTIMEZONE
TZID:Europe/Paris
BEGIN:DAYLIGHT
TZOFFSETFROM:+0100
TZOFFSETTO:+0200
TZNAME:CEST
DTSTART:20170326T010000
END:DAYLIGHT
BEGIN:STANDARD
TZOFFSETFROM:+0200
TZOFFSETTO:+0100
TZNAME:CET
DTSTART:20171029T010000
END:STANDARD
END:VTIMEZONE
BEGIN:VEVENT
DTSTART;VALUE=DATE:20170914
DTEND;VALUE=DATE:20170920
DTSTAMP:20260420T135611
CREATED:20180313T155026Z
LAST-MODIFIED:20190205T150515Z
UID:424-1505347200-1505865599@www.histoire-vivante.org
SUMMARY:Les Médiévales de Belleperche\, Cordes Tolosannes (82)
DESCRIPTION:Fête médiévale \nThème: « Le Monde des Marchands » \nGalerie photo \n\n  \n    \n\n  \n			\n				\n            					\n  						\n							\n															\n  							  							  						\n  						  					\n          					\n					\n\n					\n										\n						Les Médiévales de Belleperche\, Cordes Tolosannes 2017
URL:https://www.histoire-vivante.org/evenement/les-medievales-de-belleperche-cordes-tolosannes-82-2017
CATEGORIES:Autres évènements
ATTACH;FMTTYPE=image/gif:https://www.histoire-vivante.org/wp-content/uploads/medievales-belleperche-2017.gif
END:VEVENT
BEGIN:VEVENT
DTSTART;VALUE=DATE:20170916
DTEND;VALUE=DATE:20170918
DTSTAMP:20260420T135611
CREATED:20180313T160144Z
LAST-MODIFIED:20181205T151633Z
UID:442-1505520000-1505692799@www.histoire-vivante.org
SUMMARY:La Médiévale\, Montlhéry (91)
DESCRIPTION:Fête médiévale \nGalerie photo \n\n  \n    \n\n  \n			\n				\n            					\n  						\n							\n															\n  							  							  						\n  						  					\n          					\n					\n\n					\n										\n						La Médiévale\, Montlhéry 2017\n					\n										\n					                    \n					\n					\n					\n					\n									\n			\n		\nArticles de presse \nArticle du Républicain
URL:https://www.histoire-vivante.org/evenement/la-medievale-montlhery-91-2017
LOCATION:Montlhéry\, Parc de la Souche\, Montlhéry\, 91310\, France
CATEGORIES:Autres évènements
ATTACH;FMTTYPE=image/jpeg:https://www.histoire-vivante.org/wp-content/uploads/2017-affiche-montlhery-1.jpg
END:VEVENT
END:VCALENDAR