BEGIN:VCALENDAR
VERSION:2.0
PRODID:-//ApHV - ECPv6.11.2//NONSGML v1.0//EN
CALSCALE:GREGORIAN
METHOD:PUBLISH
X-WR-CALNAME:ApHV
X-ORIGINAL-URL:https://www.histoire-vivante.org
X-WR-CALDESC:Évènements pour ApHV
REFRESH-INTERVAL;VALUE=DURATION:PT1H
X-Robots-Tag:noindex
X-PUBLISHED-TTL:PT1H
BEGIN:VTIMEZONE
TZID:Europe/Paris
BEGIN:DAYLIGHT
TZOFFSETFROM:+0100
TZOFFSETTO:+0200
TZNAME:CEST
DTSTART:20180325T010000
END:DAYLIGHT
BEGIN:STANDARD
TZOFFSETFROM:+0200
TZOFFSETTO:+0100
TZNAME:CET
DTSTART:20181028T010000
END:STANDARD
END:VTIMEZONE
BEGIN:VEVENT
DTSTART;VALUE=DATE:20180602
DTEND;VALUE=DATE:20180604
DTSTAMP:20260420T000100
CREATED:20180313T161317Z
LAST-MODIFIED:20180913T135037Z
UID:451-1527897600-1528070399@www.histoire-vivante.org
SUMMARY:Les Médiévales\, Laon (02)
DESCRIPTION:Fête médiévale \nThème: « Art et Artisanat » \nGalerie photo \n\n  \n    \n\n  \n			\n				\n            					\n  						\n							\n															\n  							  							  						\n  						  					\n          					\n					\n\n					\n										\n						Fêtes Médiévales\, Laon 2018
URL:https://www.histoire-vivante.org/evenement/les-medievales-laon-02-2018
LOCATION:Laon\, Promenade du Rempart Nord\, Laon\, 02000\, France
CATEGORIES:Autres évènements
ATTACH;FMTTYPE=image/jpeg:https://www.histoire-vivante.org/wp-content/uploads/Affiche-1-e1536734926858.jpg
END:VEVENT
BEGIN:VEVENT
DTSTART;VALUE=DATE:20180609
DTEND;VALUE=DATE:20180611
DTSTAMP:20260420T000100
CREATED:20180313T161940Z
LAST-MODIFIED:20180918T145454Z
UID:455-1528502400-1528675199@www.histoire-vivante.org
SUMMARY:Les Médiévales\, Provins (77)
DESCRIPTION:Fête médiévale \nThème: « Des Hommes et des Bêtes » \nGalerie photo \n\n  \n    \n\n  \n			\n				\n            					\n  						\n							\n															\n  							  							  						\n  						  					\n          					\n					\n\n					\n										\n						Les Médiévales\, Provins 2018
URL:https://www.histoire-vivante.org/evenement/les-medievales-provins-77-2018
CATEGORIES:Autres évènements
ATTACH;FMTTYPE=image/jpeg:https://www.histoire-vivante.org/wp-content/uploads/Medievales-Provins-2018.jpg
END:VEVENT
END:VCALENDAR