BEGIN:VCALENDAR
VERSION:2.0
PRODID:-//ApHV - ECPv6.11.2//NONSGML v1.0//EN
CALSCALE:GREGORIAN
METHOD:PUBLISH
X-ORIGINAL-URL:https://www.histoire-vivante.org
X-WR-CALDESC:Évènements pour ApHV
REFRESH-INTERVAL;VALUE=DURATION:PT1H
X-Robots-Tag:noindex
X-PUBLISHED-TTL:PT1H
BEGIN:VTIMEZONE
TZID:Europe/Paris
BEGIN:DAYLIGHT
TZOFFSETFROM:+0100
TZOFFSETTO:+0200
TZNAME:CEST
DTSTART:20180325T010000
END:DAYLIGHT
BEGIN:STANDARD
TZOFFSETFROM:+0200
TZOFFSETTO:+0100
TZNAME:CET
DTSTART:20181028T010000
END:STANDARD
END:VTIMEZONE
BEGIN:VEVENT
DTSTART;VALUE=DATE:20180913
DTEND;VALUE=DATE:20180917
DTSTAMP:20260419T192218
CREATED:20180313T163355Z
LAST-MODIFIED:20200416T065028Z
UID:459-1536796800-1537142399@www.histoire-vivante.org
SUMMARY:Les Médiévales de Belleperche\, Cordes Tolosannes (82)
DESCRIPTION:Fête médiévale \nThème: « Des Animaux et des Hommes » \nGalerie photo \n\n  \n    \n\n  \n			\n				\n            					\n  						\n							\n															\n  							  							  						\n  						  					\n          					\n					\n\n					\n										\n						Les Médiévales de Belleperche\, Cordes Tolosannes 2018
URL:https://www.histoire-vivante.org/evenement/les-medievales-de-belleperche-cordes-tolosannes-82-2018
CATEGORIES:Autres évènements
ATTACH;FMTTYPE=image/jpeg:https://www.histoire-vivante.org/wp-content/uploads/Affiche-7.jpg
END:VEVENT
BEGIN:VEVENT
DTSTART;VALUE=DATE:20180915
DTEND;VALUE=DATE:20180917
DTSTAMP:20260419T192218
CREATED:20180313T163514Z
LAST-MODIFIED:20180920T034321Z
UID:461-1536969600-1537142399@www.histoire-vivante.org
SUMMARY:La Médiévale\, Montlhéry (91)
DESCRIPTION:Fête médiévale \nGalerie photo \n\n  \n    \n\n  \n			\n				\n            					\n  						\n							\n															\n  							  							  						\n  						  					\n          					\n					\n\n					\n										\n						La Médiévale\, Montlhéry 2018
URL:https://www.histoire-vivante.org/evenement/la-medievale-montlhery-91-2018
LOCATION:Montlhéry\, Parc de la Souche\, Montlhéry\, 91310\, France
CATEGORIES:Autres évènements
ATTACH;FMTTYPE=image/jpeg:https://www.histoire-vivante.org/wp-content/uploads/fete-medievale-montlhery-2018.jpg
END:VEVENT
BEGIN:VEVENT
DTSTART;VALUE=DATE:20180921
DTEND;VALUE=DATE:20180924
DTSTAMP:20260419T192218
CREATED:20180922T045104Z
LAST-MODIFIED:20190115T162416Z
UID:3916-1537488000-1537747199@www.histoire-vivante.org
SUMMARY:Marché médiéval\, Musée-Parc Arkéos\, Douai (59)
DESCRIPTION:Marché médiéval \nDans le cadre de la Fête Médiévale \nGalerie photo \n\n  \n    \n\n  \n			\n				\n            					\n  						\n							\n															\n  							  							  						\n  						  					\n          					\n					\n\n					\n										\n						Marché Médiéval du Musée-Parc Arkéos\, Douai 2018
URL:https://www.histoire-vivante.org/evenement/marche-medieval-arkeos-douai-59-2018
LOCATION:Musée-Parc Arkéos\, 4401 route de Tournai\, Douai\, 59500\, France
CATEGORIES:Autres évènements
ATTACH;FMTTYPE=image/jpeg:https://www.histoire-vivante.org/wp-content/uploads/Affiche-5.jpg
END:VEVENT
BEGIN:VEVENT
DTSTART;VALUE=DATE:20180928
DTEND;VALUE=DATE:20181002
DTSTAMP:20260419T192218
CREATED:20180922T051631Z
LAST-MODIFIED:20180922T051631Z
UID:3921-1538092800-1538438399@www.histoire-vivante.org
SUMMARY:Animations Far West\, Margny-lès-Compiègne (60)
DESCRIPTION:Animations Far West \nDans le cadre de la Foire Expo du Compiègnois
URL:https://www.histoire-vivante.org/evenement/animations-far-west-margny-les-compiegne-60-2018
LOCATION:Le Tigre\, 2 rue Jean Mermoz\, Margny-lès-Compiègne\, 60280\, France
CATEGORIES:Autres évènements
ATTACH;FMTTYPE=image/jpeg:https://www.histoire-vivante.org/wp-content/uploads/Affiche-6.jpg
END:VEVENT
END:VCALENDAR