BEGIN:VCALENDAR
VERSION:2.0
PRODID:-//ApHV - ECPv6.11.2//NONSGML v1.0//EN
CALSCALE:GREGORIAN
METHOD:PUBLISH
X-WR-CALNAME:ApHV
X-ORIGINAL-URL:https://www.histoire-vivante.org
X-WR-CALDESC:Évènements pour ApHV
REFRESH-INTERVAL;VALUE=DURATION:PT1H
X-Robots-Tag:noindex
X-PUBLISHED-TTL:PT1H
BEGIN:VTIMEZONE
TZID:Europe/Paris
BEGIN:DAYLIGHT
TZOFFSETFROM:+0100
TZOFFSETTO:+0200
TZNAME:CEST
DTSTART:20180325T010000
END:DAYLIGHT
BEGIN:STANDARD
TZOFFSETFROM:+0200
TZOFFSETTO:+0100
TZNAME:CET
DTSTART:20181028T010000
END:STANDARD
END:VTIMEZONE
BEGIN:VEVENT
DTSTART;VALUE=DATE:20180928
DTEND;VALUE=DATE:20181002
DTSTAMP:20260419T174826
CREATED:20180922T051631Z
LAST-MODIFIED:20180922T051631Z
UID:3921-1538092800-1538438399@www.histoire-vivante.org
SUMMARY:Animations Far West\, Margny-lès-Compiègne (60)
DESCRIPTION:Animations Far West \nDans le cadre de la Foire Expo du Compiègnois
URL:https://www.histoire-vivante.org/evenement/animations-far-west-margny-les-compiegne-60-2018
LOCATION:Le Tigre\, 2 rue Jean Mermoz\, Margny-lès-Compiègne\, 60280\, France
CATEGORIES:Autres évènements
ATTACH;FMTTYPE=image/jpeg:https://www.histoire-vivante.org/wp-content/uploads/Affiche-6.jpg
END:VEVENT
END:VCALENDAR