BEGIN:VCALENDAR
VERSION:2.0
PRODID:-//ApHV - ECPv6.11.2//NONSGML v1.0//EN
CALSCALE:GREGORIAN
METHOD:PUBLISH
X-WR-CALNAME:ApHV
X-ORIGINAL-URL:https://www.histoire-vivante.org
X-WR-CALDESC:Évènements pour ApHV
REFRESH-INTERVAL;VALUE=DURATION:PT1H
X-Robots-Tag:noindex
X-PUBLISHED-TTL:PT1H
BEGIN:VTIMEZONE
TZID:Europe/Paris
BEGIN:DAYLIGHT
TZOFFSETFROM:+0100
TZOFFSETTO:+0200
TZNAME:CEST
DTSTART:20180325T010000
END:DAYLIGHT
BEGIN:STANDARD
TZOFFSETFROM:+0200
TZOFFSETTO:+0100
TZNAME:CET
DTSTART:20181028T010000
END:STANDARD
END:VTIMEZONE
BEGIN:VEVENT
DTSTART;VALUE=DATE:20181109
DTEND;VALUE=DATE:20181111
DTSTAMP:20260419T163829
CREATED:20190109T075418Z
LAST-MODIFIED:20190109T124742Z
UID:8303-1541721600-1541894399@www.histoire-vivante.org
SUMMARY:Animations 14-18\, Centre Commercial Carrefour\, Venette (60)
DESCRIPTION:Animations 14-18 \nGalerie photo \n\n  \n    \n\n  \n			\n				\n            					\n  						\n							\n															\n  							  							  						\n  						  					\n          					\n					\n\n					\n										\n						Animations 14-18\, Centre Commercial Carrefour\, Venette 2018
URL:https://www.histoire-vivante.org/evenement/animations-14-18-centre-commercial-carrefour-venette-60-2018
LOCATION:Centre Commercial Carrefour Venette\, 6 Avenue de l’Europe\, Vnette\, 60280\, France
CATEGORIES:Autres évènements
ATTACH;FMTTYPE=image/jpeg:https://www.histoire-vivante.org/wp-content/uploads/IMG_5541-1-e1547020401455.jpg
END:VEVENT
END:VCALENDAR