BEGIN:VCALENDAR
VERSION:2.0
PRODID:-//ApHV - ECPv6.11.2//NONSGML v1.0//EN
CALSCALE:GREGORIAN
METHOD:PUBLISH
X-WR-CALNAME:ApHV
X-ORIGINAL-URL:https://www.histoire-vivante.org
X-WR-CALDESC:Évènements pour ApHV
REFRESH-INTERVAL;VALUE=DURATION:PT1H
X-Robots-Tag:noindex
X-PUBLISHED-TTL:PT1H
BEGIN:VTIMEZONE
TZID:Europe/Paris
BEGIN:DAYLIGHT
TZOFFSETFROM:+0100
TZOFFSETTO:+0200
TZNAME:CEST
DTSTART:20230326T010000
END:DAYLIGHT
BEGIN:STANDARD
TZOFFSETFROM:+0200
TZOFFSETTO:+0100
TZNAME:CET
DTSTART:20231029T010000
END:STANDARD
END:VTIMEZONE
BEGIN:VEVENT
DTSTART;VALUE=DATE:20230101
DTEND;VALUE=DATE:20240101
DTSTAMP:20260420T031622
CREATED:20240111T111219Z
LAST-MODIFIED:20240111T111219Z
UID:26427-1672531200-1704067199@www.histoire-vivante.org
SUMMARY:Antiquités médiévales\, Azincourt (62)
DESCRIPTION:Plus de 200 antiquités: armes et armures\, bijoux\, parchemins\, bouclerie\, ustensiles de cuisine\, monnaies\, accessoires vestimentaires\, objets religieux\, jeux et jouets… \nGalerie photo \n\n  \n    \n\n  \n			\n				\n            					\n  						\n							\n															\n  							  							  						\n  						  					\n          					\n					\n\n					\n										\n						Exposition antiquités médiévales\, Azincourt 2007
URL:https://www.histoire-vivante.org/evenement/antiquites-medievales-azincourt-62-2023
LOCATION:Centre Historique Médiéval d’Azincourt\, 24 rue Charles VI\, Azincourt\, 62310\, France
CATEGORIES:Expositions
ATTACH;FMTTYPE=image/jpeg:https://www.histoire-vivante.org/wp-content/uploads/ARMU001-e1536823643509.jpg
END:VEVENT
END:VCALENDAR