BEGIN:VCALENDAR
VERSION:2.0
PRODID:-//ApHV - ECPv6.11.2//NONSGML v1.0//EN
CALSCALE:GREGORIAN
METHOD:PUBLISH
X-ORIGINAL-URL:https://www.histoire-vivante.org
X-WR-CALDESC:Évènements pour ApHV
REFRESH-INTERVAL;VALUE=DURATION:PT1H
X-Robots-Tag:noindex
X-PUBLISHED-TTL:PT1H
BEGIN:VTIMEZONE
TZID:Europe/Paris
BEGIN:DAYLIGHT
TZOFFSETFROM:+0100
TZOFFSETTO:+0200
TZNAME:CEST
DTSTART:20230326T010000
END:DAYLIGHT
BEGIN:STANDARD
TZOFFSETFROM:+0200
TZOFFSETTO:+0100
TZNAME:CET
DTSTART:20231029T010000
END:STANDARD
END:VTIMEZONE
BEGIN:VEVENT
DTSTART;VALUE=DATE:20231118
DTEND;VALUE=DATE:20231120
DTSTAMP:20260424T184605
CREATED:20230331T091959Z
LAST-MODIFIED:20240111T102808Z
UID:24841-1700265600-1700438399@www.histoire-vivante.org
SUMMARY:Marché de l'Histoire\, Compiègne (60)
DESCRIPTION:Plus de 200 exposants de 14 nationalités \nLes plans d’implantation et la liste des exposants se trouvent dans le Guide du Visiteur: \nTélécharger le Guide du Visiteur \nATTENTION : le marché était couplé à un Festival du Spectacle Historique\n \nFous d’Histoire Compiègne \nPériodes couvertes: Préhistoire\, Antiquité\, Moyen Age\, Renaissance\, Empires\, Belle Epoque\, Guerres Mondiales \n \nExposants \n\n\n\n\n	NomPaysProduits\n\n\n\n\n	Aiguilleuse Atypique (L')Costumes\n\n\n	Alain ChevalériasLivres\n\n\n	Alliance d'EssencesDivers\n\n\n	Allures d'AntanDivers\n\n\n	Aloyse CréationsCostumes\n\n\n	Ame du Cidre (L')Cidre\n\n\n	AméthisPoteries\n\n\n	Andréa KutassiBijoux\n\n\n	An Mil (L')Bijoux\n\n\n	AntikcostumeDivers\n\n\n	Antre de Sukre (L')Chapeaux\, bijoux\n\n\n	Arbalestrie et ImagerieArbalètes\n\n\n	Archéotrucs (Les)Boxes\n\n\n	Arma BohemiaDivers\n\n\n	ArmediaDivers\n\n\n	Arpad TakacsInstruments de musique\n\n\n	Ar'théThés\n\n\n	Artias Armurerie MédiévaleArmes\, armures\n\n\n	Artichok DesignsBijoux\n\n\n	Artisa ChimaeraDivers\n\n\n	Art-KeoObjets en silex\n\n\n	Asgard CostumesCostumes\n\n\n	AsrarRestauration\n\n\n	Atelier de la Feuille d'OrEnluminures\n\n\n	Atelier de la FontaineAccessoires en cuir\n\n\n	Atelier de la Lune CramoisieMasques\, coiffes\n\n\n	Atelier de Lutherie Philippe BerneInstruments de musique\n\n\n	Atelier de Micky (L')Laine\n\n\n	Atelier de Sellerie 3 Ptits ClousAccessoires en cuir\n\n\n	Atelier des Lances (L')Divers\n\n\n	Atelier du Chat BottéCostumes\n\n\n	Atelier ElbockFlutes\n\n\n	Atelier FigulinaPoteries\n\n\n	Atelier GotiraDivers\n\n\n	Atelier JoséfineCostumes\n\n\n	Atelier Opus FrancigenumManuscrits\n\n\n	Atelier Ours og CorbeauAccessoires en cuir\n\n\n	Atelier PernetteCéramiques\n\n\n	Atelier VirtusCoffres\n\n\n	Atelier ZilverlindeBijoux\n\n\n	Auberge de l'Enchanteur (L')Restauration\n\n\n	Banquises et ComètesLivres\n\n\n	Bernie the BoltTissus\n\n\n	Bobine (La)Galons\n\n\n	Bois pour TousArticles en bois\n\n\n	Brasserie BakpakerBières\n\n\n	Breuvages de la Chaudasse (Les)Boissons médiévales\n\n\n	Brioche (La)Restauration\n\n\n	Brods (Le)Restauration\n\n\n	Call of CoffeeCoffee shop\n\n\n	Carreau d'ArbalèteArbalètes\, boucliers\n\n\n	Caves (Les)Fromages\n\n\n	Cerata Artisan CirierBougies\n\n\n	Cercle des TouaillesCostumes\n\n\n	Cervus TradingDivers\n\n\n	Chaudron du Dagda (Le)Restauration\n\n\n	Chevalier ThibaultChemises\, capes\n\n\n	Chignon Chic - Ecole de ChignonPiques à cheveux\n\n\n	Chroniques d'Hidaldya (Les)Costumes\n\n\n	Clairière de SolveigDivers\n\n\n	Compagnons de l'Orbe (Les)Livres\, jeux\n\n\n	Confitures d'Antan de Martine (Les)Confitures\n\n\n	Copeaux MulticoloresUstensiles en bois\n\n\n	Corbeau Créateur (Le)Accessoires en cuir\n\n\n	Corium OfficinaBijoux\, objets en cuir\n\n\n	CornibusCornes\n\n\n	Cour des Saveurs (La)Plats cuisinés\n\n\n	Couteaux d'Hier et d'Aujourd'huiCouteaux\n\n\n	Coutellerie DevillersCouteaux\n\n\n	Coutellerie Nuage P.Couteaux\n\n\n	Crêp'MamicetteCrêpes\n\n\n	Cristaux et CoMinéraux\, produits ésotériques\n\n\n	Croquez l'HistoireBiscuits\n\n\n	Cuir Ouvert (A)Accessoires en cuir\n\n\n	Cuir\, Fil et CouleurAccessoires en cuir\n\n\n	Cuirs MazametCuirs\, peaux\n\n\n	Dame du Marais (La)Coiffes\n\n\n	Danielle Lalou - Maison de coutureCostumes\n\n\n	David LécuyerAccessoires en cuir\n\n\n	DiplostorikCostumes\n\n\n	DK Créations CuirsAccessoires en cuir\n\n\n	Echo Historical TextileTissus\n\n\n	Echoppe de Christine (L')Divers\n\n\n	Echoppe de Dame Claudine (L')Boissons\, confitures\n\n\n	Echoppe de la TrouvailleDivers\n\n\n	Echoppe de Scapi (L')Costumes\n\n\n	Echoppe des Conquérants (L')Divers\n\n\n	Echoppe du Griffon Noir (L')Restauration\n\n\n	Eckladen 1910Divers\n\n\n	Eclats d'Avalon (Les)Divers\n\n\n	Editions de la MuseLivres\n\n\n	Editions La Compagnie LittéraireLivres\n\n\n	EkoniCostumes\n\n\n	Ellana WolfLivres\, divers\n\n\n	Encharmée (L')Bijoux\n\n\n	EpicetooEpices\n\n\n	Escale des Crêpes (L')Restauration\n\n\n	Espaviote (L')Hypocras\n\n\n	Esprit de MélusineChapeaux\, bijoux\n\n\n	Ets LavauxCharcuterie\n\n\n	Fabrice CognotEpées\, couteaux\n\n\n	Fantasy FéérieFigurines\n\n\n	Fée Délices (La)Fondants aux pommes\n\n\n	Ferey MédiévalChaussures\n\n\n	Ferme Brasserie NorthmaenBières\, whisky\n\n\n	Ferme de RoubegeollesPlats cuisinés\n\n\n	Ferme Forestière (La)Divers\n\n\n	Fleur des Délices (La)Patisseries\n\n\n	Fonderie de Chalautre (La)Fibules\n\n\n	Forge de GobannosArmes\, couteaux\n\n\n	Forge de Viggo (La)Couteaux\, épées\n\n\n	Forge des Plaines (La)Fer forgé\n\n\n	Forge d'Halatte (La)Divers\n\n\n	Forge du Ragnarok (La)Couteaux\n\n\n	Forge du Sanglier (La)Pointes de flèches forgées\n\n\n	Forge en Mitgard (Une)Armes\, ustensiles forgés\n\n\n	Forge LamballaisCouteaux\n\n\n	Forges d'Haraldr (Les)Couteaux\n\n\n	Fou du Roy (Le)Boissons médiévales\n\n\n	Fous de CochonRestauration\n\n\n	Franck RandolfDivers\n\n\n	Frère TuckBoissons médiévales\, saucissons\n\n\n	Fromages aux 1000 SaveursFromages\n\n\n	Fromages Gèrent (Les)Restauration\n\n\n	Gabriel ArmouryArmures\n\n\n	Gaël PertrissardBoucliers\n\n\n	Goch ArmoryDivers\n\n\n	GovannonBijoux et objets en bronze\n\n\n	Graziano Dal BarcoChaussures\n\n\n	Gripping Beast (The)Divers\n\n\n	Groll de TrollChaussures\n\n\n	GrybolDivers\n\n\n	Gunstock War ClubWar clubs\n\n\n	Idées CuirsAccessoires en cuir\n\n\n	Ilja FrenzelCéramiques\n\n\n	InstitoriumDivers\n\n\n	IrminsulObjets en bois\n\n\n	J.L.S Sculpteur d'HistoiresArcherie\n\n\n	Jardin du Vanaheim (Le)Bijoux\, compositions florales\n\n\n	Kasto Armourie Armes\, armures\n\n\n	KatedraalCostumes\n\n\n	Keltia Magazine / Editions du NemetonMagazines\n\n\n	KirkienesDivers\n\n\n	Kokoszowa ManufakturaDivers\n\n\n	KourganeVerres\n\n\n	Kovex ArsArmes\, armures\n\n\n	Labo de Cléopatre (Le)Parfums\, encens\n\n\n	Labor TemporisDivers\n\n\n	Lady ConfectionCostumes\n\n\n	Laine et de Coton (De)Tricots\n\n\n	LembergDivers\n\n\n	LM Nature et BoisArcs\, jouets\n\n\n	Lorifactor MetalworksDivers\n\n\n	Loutre de Beryl (La)Livres\n\n\n	LynCapes\, tissages\n\n\n	Machine à Rêves (La)Costumes\n\n\n	Madame AugustineCostumes\n\n\n	MagmadBijoux\n\n\n	MaratierCostumes\n\n\n	Marchands de Hasard (Les)Herboristerie\, spiritueux\n\n\n	Margotton LutherieInstruments de musique\n\n\n	MatulsDivers\n\n\n	Meadway Marcin GajdaDivers\n\n\n	Medieval CraftDivers\n\n\n	Melody MoulinTentes\n\n\n	Mésange Bleue (La)Cosmétiques\n\n\n	Midgard's MerchantDivers\n\n\n	Miroslaw TalikDivers\n\n\n	Modes d'AutrefoisCostumes\n\n\n	Monde de K'tell (Le)Divers\n\n\n	NarsilionCostumes\n\n\n	Natalia LagogueyDivers\n\n\n	NinveimDivers\n\n\n	Nomad ArtArcs orientaux\n\n\n	Odin's CaravanTaverne\n\n\n	P.H.U. LobosLin\n\n\n	Palais d'Or (Au)Prâlines\n\n\n	Parchemin et par PotEnluminures\n\n\n	Pavel MarekArmes\, armures\n\n\n	PiarrotFourrures\, crânes\n\n\n	Piece of History (A)Arcs\n\n\n	PilarartBijoux\n\n\n	Plantes du Puits des FéesLiqueurs\, tisanes\n\n\n	Pomerania MercatoresAccessoires en cuir\n\n\n	Poterie des Grands BoisCéramiques\n\n\n	RamsDivers\n\n\n	Rasmania Wool / MandalaineArticles en feutre\n\n\n	Reddog Forge / Stephen NorrisDivers\n\n\n	Résine MiniaturesMaquettes\n\n\n	Rêves d'AcierArmes\, armures\n\n\n	Roulotte de la Marmotte (La)Restauration\n\n\n	Royaume des Abeilles (Le)Nougat\, miel\, pain d'épice\n\n\n	Ruche aux Deux AmisPain d'épice\, miel\n\n\n	Sandie ChabotBijoux\, chocolat chaud\, thé\n\n\n	SarahecmillaBaguettes magiques\n\n\n	Sartoria MonRoCostumes\n\n\n	Sauvage (Le)Chocolat\n\n\n	Sauzedde NéronArticles en corne\n\n\n	Savoir Faire d'AntanObjets en bois\n\n\n	Sensitive CréationAccessoires en cuir\n\n\n	Shirley's DelicatessenOlives\, bretzels\n\n\n	Soleil de BrocéliandePains\, gâteaux\n\n\n	SortilègeDivers\n\n\n	Steel MasteryArmures\, costumes\n\n\n	TanderadeyCostumes\n\n\n	Tod's WorkshopCouteaux\n\n\n	Tomas Rjabincak / RabiciDivers\n\n\n	Tours en Détours (De)Ustensiles en bois\n\n\n	ToutencotonCostumes\n\n\n	Trésors de Maëya (Les)Bijoux\n\n\n	TuchundStoffTissus\n\n\n	Vagabond SyndromeBijoux\n\n\n	Vasmaya Vimir Middle AgesDivers\n\n\n	Velay CréationCostumes\n\n\n	Verre Historique (Le)Verres\n\n\n	VigeliaBijoux\n\n\n	Viking KristallBijoux\n\n\n	Viktor BerbekuczArmes\n\n\n	WalhallaDivers\n\n\n	WazdacraftDivers\n\n\n	WoolsomeDivers\n\n\n	WyrmcraftsDivers\n\n\n	Zwaard en VolkDivers\n\n\n\n\nGalerie photo \n\n  \n    \n\n  \n			\n				\n            					\n  						\n							\n															\n  							  							  						\n  						  					\n          					\n					\n\n					\n										\n						Fous d’Histoire\, Compiègne 2023\n					\n										\n					                    \n					\n					\n					\n					\n									\n			\n		\nVidéos
URL:https://www.histoire-vivante.org/evenement/marche-de-lhistoire-compiegne-60-novembre-2023
LOCATION:Le Tigre\, 2 rue Jean Mermoz\, Margny-lès-Compiègne\, 60280\, France
CATEGORIES:Marché de l'Histoire
ATTACH;FMTTYPE=image/jpeg:https://www.histoire-vivante.org/wp-content/uploads/Publicite-3-e1692635680601.jpg
END:VEVENT
END:VCALENDAR