BEGIN:VCALENDAR
VERSION:2.0
PRODID:-//ApHV - ECPv6.11.2//NONSGML v1.0//EN
CALSCALE:GREGORIAN
METHOD:PUBLISH
X-WR-CALNAME:ApHV
X-ORIGINAL-URL:https://www.histoire-vivante.org
X-WR-CALDESC:Évènements pour ApHV
REFRESH-INTERVAL;VALUE=DURATION:PT1H
X-Robots-Tag:noindex
X-PUBLISHED-TTL:PT1H
BEGIN:VTIMEZONE
TZID:Europe/Paris
BEGIN:DAYLIGHT
TZOFFSETFROM:+0100
TZOFFSETTO:+0200
TZNAME:CEST
DTSTART:20240331T010000
END:DAYLIGHT
BEGIN:STANDARD
TZOFFSETFROM:+0200
TZOFFSETTO:+0100
TZNAME:CET
DTSTART:20241027T010000
END:STANDARD
END:VTIMEZONE
BEGIN:VEVENT
DTSTART;VALUE=DATE:20241005
DTEND;VALUE=DATE:20241007
DTSTAMP:20260420T140240
CREATED:20240510T075200Z
LAST-MODIFIED:20241008T124026Z
UID:26648-1728086400-1728259199@www.histoire-vivante.org
SUMMARY:Marché de l'Histoire\, Minden (Allemagne)
DESCRIPTION:Près de 100 exposants de 12 nationalités \nPériodes couvertes: Préhistoire\, Antiquité\, Moyen Age\, Renaissance\, Empires\, Belle Epoque\, Guerres Mondiales \nHoraires:\n– Samedi: 10h-23h\n– Dimanche: 10h-18h \nTarifs:\n– Plein tarif: 9.0€ (1 jour) / 13.0€ (2 jours)\n– Tarif réduit: 4.0€ (1 jour) / 5.0€ (2 jours) (enfants de moins de 17 ans et étudiants)\n– Gratuit pour les enfants de moins de 5 ans \nRestauration historique et moderne sur place \nExposants \n\n\n\n\n	NomSite InternetNomPaysProduits\n\n\n\n\n	Amber WolfAmber WolfDivers\n\n\n	Arma Bohemiahttp://armabohemia.czArma BohemiaDivers\n\n\n	Ars Vivendihttp://arsvivendi-online.euArs VivendiPromotion des arts historiques\n\n\n	Artefacthttp://artefactcrea.comArtefactCostumes\n\n\n	Atelier de la Feuille d'OrAtelier de la Feuille d'OrEnluminures\n\n\n	Atelier Pietro Longhihttp://pietrolonghi.comAtelier Pietro LonghiCostumes\n\n\n	Atelier Zilverlindehttp://zilverlinde.nlAtelier ZilverlindeBijoux\n\n\n	Baaring Handelshushttp://baaringhandelshus.dkBaaring HandelshusDivers\n\n\n	BD BonesBD BonesDivers\n\n\n	Beaux Chapeauxhttp://beaux-chapeaux.deBeaux ChapeauxChapeaux\n\n\n	Bernd Joachim Voigthttp://mittelalter-zeltbau.deBernd Joachim VoigtTentes\n\n\n	Cervus Tradinghttp://cervustrading.nlCervus TradingDivers\n\n\n	Cezary Wyszynskihttp://woolsome.shopCezary WyszynskiDivers\n\n\n	Cooper's Choicehttp://cooperschoice.nlCooper's ChoiceCostumes\n\n\n	Dobrahttp://dobraczech.czDobraAccessoires en cuir\n\n\n	Dorothea Classenhttp://dorothea-classen.deDorothea ClassenCostumes\n\n\n	Eckladen 1910http://eckladen1910.deEckladen 1910Divers\n\n\n	Ekonihttp://ekoni.huEkoniCostumes\n\n\n	Fabri Armorumhttp://fabri-armorum.comFabri ArmorumArmes\n\n\n	Falconers Kniveshttp://falconersknives.comFalconers KnivesDivers\n\n\n	Flusenhandwerkhttp://flusenhandwerk.deFlusenhandwerkLaines\, tissus\n\n\n	Franck RandolfFranck RandolfBijoux\n\n\n	Gewürzkrämer - Schall und Rauchhttp://gewuerzkraemer.deGewürzkrämer - Schall und RauchEpices\, savons\n\n\n	Goddess BVhttp://goddessclothes.beGoddess BVCostumes\n\n\n	Graziano Dal Barcohttp://historicalitalianshoes.comGraziano Dal BarcoChaussures\n\n\n	Gripping Beast (The)http://grippingbeast.netGripping Beast (The)Divers\n\n\n	Grybolhttp://grybol.euGrybolDivers\n\n\n	Hamburger Galanteriewarenhttp://hamburger-galanteriewaren.deHamburger GalanteriewarenBijoux\n\n\n	Ilja Frenzelhttp://ilja-frenzel.deIlja FrenzelCéramiques\n\n\n	Institoriumhttp://institorium.plInstitoriumDivers\n\n\n	J.A.E. Design Studiohttp://jaedesign.euJ.A.E. Design StudioCostumes\n\n\n	Jan MeierJan MeierLin\n\n\n	Kasto Armourie http://arms-armor.comKasto Armourie Armes\, armures\n\n\n	Kokoszowa Manufakturahttp://gambeson.plKokoszowa ManufakturaDivers\n\n\n	Kourganehttp://kourgane.comKourganeVerres\n\n\n	Kovex Arshttp://kovex-ars.czKovex ArsArmes\, armures\n\n\n	Lana et Argentumhttp://lana-et-argentum.jimdo.comLana et ArgentumDivers\n\n\n	LederfritzLederfritzAccessoires en cuir\n\n\n	LembergLembergDivers\n\n\n	Lorifactor Metalworkshttp://lorifactor.comLorifactor MetalworksDivers\n\n\n	Magnus BeckMagnus BeckDivers\n\n\n	Matulshttp://matuls.plMatulsDivers\n\n\n	MeadwayMeadwayDivers\n\n\n	Medieval Crafthttp://medievalcraft.euMedieval CraftDivers\n\n\n	Messingschmiede (Die)Messingschmiede (Die)Bijoux\n\n\n	Milan Müller Saddleryhttp://sattlerei.czMilan Müller SaddleryAccessoires en cuir\n\n\n	Miroslaw Talikhttp://tabernavagantis.comMiroslaw TalikBougies\, hydromel\, miel\n\n\n	Nomad Arthttp://nomad-art.huNomad ArtArcs orientaux\n\n\n	Nordulfhttp://nordulf.comNordulfDivers\n\n\n	Odin's SpearOdin's SpearDivers\n\n\n	Old Archeryhttp://historic-archery.comOld ArcheryArcs\n\n\n	Old Fashionhttp://tex-kuester.deOld FashionCostumes\n\n\n	Othala Crafthttp://othalacraft.comOthala CraftCostumes\n\n\n	P.H.U. BartekP.H.U. BartekTissus\n\n\n	P.H.U. LobosP.H.U. LobosLin\n\n\n	Pavel Marekhttp://armorymarek.comPavel MarekEpées\, armures\n\n\n	PiarrotPiarrotFourrures\, peaux\, os\, cornes\n\n\n	Piece of History (A)Piece of History (A)Arcs\n\n\n	Pilararthttp://pilarart.plPilarartBijoux\n\n\n	Piotr BaranowiczPiotr BaranowiczUstensiles en bois\n\n\n	Pomerania MercatoresPomerania MercatoresBoucliers\n\n\n	Ragnarok e.V.Ragnarok e.V.Divers\n\n\n	Ravelin Shophttp://ravelin-shop.euRavelin ShopDivers\n\n\n	Regine KlapprodtRegine KlapprodtMinéraux\n\n\n	Riemenschneidereyhttp://riemenschneiderey.shopRiemenschneidereyAccessoires en cuir\n\n\n	Sartoria MonRohttp://sartoriamonro.comSartoria MonRoCostumes\n\n\n	Spencer HuntSpencer HuntTissus\n\n\n	Spiralhatshttp://spiralhats.comSpiralhatsChapeaux\, accessoires en cuir\n\n\n	Tanderadeyhttp://tanderadey.deTanderadeyCostumes\n\n\n	Thomas EierdingThomas EierdingDivers\n\n\n	Tod's Workshophttp://todcutler.comTod's WorkshopCouteaux\n\n\n	Tomas RjabincakTomas RjabincakDivers\n\n\n	Tuchhandel Martin WelcheringTuchhandel Martin WelcheringTissus\, costumes\n\n\n	Tuchkraemereyhttp://tuchkraemerey.deTuchkraemereyDivers\n\n\n	TuchundStoffhttps://tuchundstoff.shopTuchundStoffTissus\n\n\n	Unlichthttp://shop.unlicht.comUnlichtDivers\n\n\n	Vasmaya Vimir Middle AgesVasmaya Vimir Middle AgesDivers\n\n\n	Viking Kristallhttp://vikingkristall.seViking KristallBijoux\n\n\n	Vikingr Kontorhttps://vikingr-kontor.deVikingr KontorDivers\n\n\n	Viktor Berbekuczhttp://swordsviktor.comViktor BerbekuczEpées\n\n\n	VS Bookshttp://vs-books.deVS BooksLivres\n\n\n	Zeitensprunghttps://zeitensprung-handweberei.deZeitensprungProduits tissés main\n\n\n	Zwaard en Volkhttp://zwaardenvolk.nlZwaard en VolkDivers\n\n\n\n\nGalerie photo \n\n  \n    \n\n  \n			\n				\n            					\n  						\n							\n															\n  							  							  						\n  						  					\n          					\n					\n\n					\n										\n						Marché de l’Histoire\, Minden (Allemagne) 2024\n					\n										\n					                    \n					\n					\n					\n					\n									\n			\n		\nArticles de presse \nArticle Der Mindener Tageblatt
URL:https://www.histoire-vivante.org/evenement/marche-de-lhistoire-minden-allemagne-2024
LOCATION:Minden\, Kanzlers Weide\, Minden\, 32300\, Allemagne
CATEGORIES:Marché de l'Histoire
ATTACH;FMTTYPE=image/jpeg:https://www.histoire-vivante.org/wp-content/uploads/Affiche-182-e1728367206427.jpg
END:VEVENT
END:VCALENDAR