BEGIN:VCALENDAR
VERSION:2.0
PRODID:-//ApHV - ECPv6.11.2//NONSGML v1.0//EN
CALSCALE:GREGORIAN
METHOD:PUBLISH
X-ORIGINAL-URL:https://www.histoire-vivante.org
X-WR-CALDESC:Évènements pour ApHV
REFRESH-INTERVAL;VALUE=DURATION:PT1H
X-Robots-Tag:noindex
X-PUBLISHED-TTL:PT1H
BEGIN:VTIMEZONE
TZID:Europe/Paris
BEGIN:DAYLIGHT
TZOFFSETFROM:+0100
TZOFFSETTO:+0200
TZNAME:CEST
DTSTART:20110327T010000
END:DAYLIGHT
BEGIN:STANDARD
TZOFFSETFROM:+0200
TZOFFSETTO:+0100
TZNAME:CET
DTSTART:20111030T010000
END:STANDARD
END:VTIMEZONE
BEGIN:VEVENT
DTSTART;VALUE=DATE:20110101
DTEND;VALUE=DATE:20111001
DTSTAMP:20260426T032329
CREATED:20180731T115147Z
LAST-MODIFIED:20181219T160347Z
UID:1120-1293840000-1317427199@www.histoire-vivante.org
SUMMARY:"La Chevalerie"\, Stade de France\, Saint Denis (93)
DESCRIPTION:Dans le cadre du spectacle Excalibur \nExposition dans les loges VIP et dans l’espace visite \nDiverses pièces de reconstitution: épées\, dagues\, casques\, armures\, verrerie\, aquamaniles\, couteaux\, enluminures\, instrument de musique\, livres\, figurines en étain… \nGalerie photo \n\n  \n    \n\n  \n			\n				\n            					\n  						\n							\n															\n  							  							  						\n  						  					\n          					\n					\n\n					\n										\n						Exposition « La Chevalerie »\, Stade de France\, Saint Denis 2011
URL:https://www.histoire-vivante.org/evenement/la-chevalerie-sdf-saint-denis-93-2011
CATEGORIES:Expositions
ATTACH;FMTTYPE=image/jpeg:https://www.histoire-vivante.org/wp-content/uploads/exposition-2011-SdF-11.jpg
END:VEVENT
BEGIN:VEVENT
DTSTART;VALUE=DATE:20110101
DTEND;VALUE=DATE:20120101
DTSTAMP:20260426T032329
CREATED:20180913T073249Z
LAST-MODIFIED:20181219T125634Z
UID:2590-1293840000-1325375999@www.histoire-vivante.org
SUMMARY:Antiquités médiévales\, Azincourt (62)
DESCRIPTION:Plus de 200 antiquités: armes et armures\, bijoux\, parchemins\, bouclerie\, ustensiles de cuisine\, monnaies\, accessoires vestimentaires\, objets religieux\, jeux et jouets… \nGalerie photo \n\n  \n    \n\n  \n			\n				\n            					\n  						\n							\n															\n  							  							  						\n  						  					\n          					\n					\n\n					\n										\n						Exposition antiquités médiévales\, Azincourt 2007
URL:https://www.histoire-vivante.org/evenement/antiquites-medievales-azincourt-62-2011
LOCATION:Centre Historique Médiéval d’Azincourt\, 24 rue Charles VI\, Azincourt\, 62310\, France
CATEGORIES:Expositions
ATTACH;FMTTYPE=image/jpeg:https://www.histoire-vivante.org/wp-content/uploads/ARMU001-e1536823643509.jpg
END:VEVENT
BEGIN:VEVENT
DTSTART;VALUE=DATE:20110101
DTEND;VALUE=DATE:20110925
DTSTAMP:20260426T032329
CREATED:20190215T055328Z
LAST-MODIFIED:20190219T142216Z
UID:12567-1293840000-1316908799@www.histoire-vivante.org
SUMMARY:Animations médiévales\, Stade de France\, Saint Denis (93)
DESCRIPTION:Animations médiévales \nDans le cadre du spectacle Excalibur:\n– opérations promotionnelles\n– conférence de presse\n– visites du stade\n– animations pour les riverains\n– animations d’avant spectacle \nGalerie photo \n\n  \n    \n\n  \n			\n				\n            					\n  						\n							\n															\n  							  							  						\n  						  					\n          					\n					\n\n					\n										\n						Animations médiévales\, Stade de France\, Saint Denis 2011
URL:https://www.histoire-vivante.org/evenement/animations-medievales-stade-de-france-saint-denis-93-2011
LOCATION:Stade de France\, Stade de France\, Saint Denis\, 93200\, France
CATEGORIES:Autres évènements
ATTACH;FMTTYPE=image/gif:https://www.histoire-vivante.org/wp-content/uploads/affiche01.gif
END:VEVENT
BEGIN:VEVENT
DTSTART;VALUE=DATE:20110603
DTEND;VALUE=DATE:20110605
DTSTAMP:20260426T032329
CREATED:20190215T051151Z
LAST-MODIFIED:20190219T150759Z
UID:12542-1307059200-1307231999@www.histoire-vivante.org
SUMMARY:Les Caritas\, Béziers (34)
DESCRIPTION:Fête médiévale \nGalerie photo \n\n  \n    \n\n  \n			\n				\n            					\n  						\n							\n															\n  							  							  						\n  						  					\n          					\n					\n\n					\n										\n						Les Caritas\, Béziers 2011
URL:https://www.histoire-vivante.org/evenement/les-caritas-beziers-34-2011
LOCATION:Béziers\, Allée Paul Riquet\, Béziers\, 34500\, France
CATEGORIES:Autres évènements
ATTACH;FMTTYPE=image/jpeg:https://www.histoire-vivante.org/wp-content/uploads/Affiche-56-e1550207462633.jpg
END:VEVENT
END:VCALENDAR