BEGIN:VCALENDAR
VERSION:2.0
PRODID:-//ApHV - ECPv6.11.2//NONSGML v1.0//EN
CALSCALE:GREGORIAN
METHOD:PUBLISH
X-ORIGINAL-URL:https://www.histoire-vivante.org
X-WR-CALDESC:Évènements pour ApHV
REFRESH-INTERVAL;VALUE=DURATION:PT1H
X-Robots-Tag:noindex
X-PUBLISHED-TTL:PT1H
BEGIN:VTIMEZONE
TZID:Europe/Paris
BEGIN:DAYLIGHT
TZOFFSETFROM:+0100
TZOFFSETTO:+0200
TZNAME:CEST
DTSTART:20110327T010000
END:DAYLIGHT
BEGIN:STANDARD
TZOFFSETFROM:+0200
TZOFFSETTO:+0100
TZNAME:CET
DTSTART:20111030T010000
END:STANDARD
END:VTIMEZONE
BEGIN:VEVENT
DTSTART;VALUE=DATE:20110101
DTEND;VALUE=DATE:20120101
DTSTAMP:20260425T201447
CREATED:20180913T073249Z
LAST-MODIFIED:20181219T125634Z
UID:2590-1293840000-1325375999@www.histoire-vivante.org
SUMMARY:Antiquités médiévales\, Azincourt (62)
DESCRIPTION:Plus de 200 antiquités: armes et armures\, bijoux\, parchemins\, bouclerie\, ustensiles de cuisine\, monnaies\, accessoires vestimentaires\, objets religieux\, jeux et jouets… \nGalerie photo \n\n  \n    \n\n  \n			\n				\n            					\n  						\n							\n															\n  							  							  						\n  						  					\n          					\n					\n\n					\n										\n						Exposition antiquités médiévales\, Azincourt 2007
URL:https://www.histoire-vivante.org/evenement/antiquites-medievales-azincourt-62-2011
LOCATION:Centre Historique Médiéval d’Azincourt\, 24 rue Charles VI\, Azincourt\, 62310\, France
CATEGORIES:Expositions
ATTACH;FMTTYPE=image/jpeg:https://www.histoire-vivante.org/wp-content/uploads/ARMU001-e1536823643509.jpg
END:VEVENT
BEGIN:VEVENT
DTSTART;VALUE=DATE:20111002
DTEND;VALUE=DATE:20111003
DTSTAMP:20260425T201447
CREATED:20190215T082125Z
LAST-MODIFIED:20190220T105050Z
UID:12612-1317513600-1317599999@www.histoire-vivante.org
SUMMARY:Une Journée au Moyen Age\, Musée du Vexin Français\, Théméricourt (95)
DESCRIPTION:Animations médiévales \nGalerie photo \n\n  \n    \n\n  \n			\n				\n            					\n  						\n							\n															\n  							  							  						\n  						  					\n          					\n					\n\n					\n										\n						Une Journée au Moyen Age\, Musée du Vexin Français\, Théméricourt 2011
URL:https://www.histoire-vivante.org/evenement/une-journee-au-moyen-age-musee-du-vexin-francais-themericourt-95-2011
LOCATION:Musée du Vexin Français\, Thémericourt\, 95450\, France
CATEGORIES:Autres évènements
ATTACH;FMTTYPE=image/jpeg:https://www.histoire-vivante.org/wp-content/uploads/Affiche-71-e1550218851237.jpg
END:VEVENT
BEGIN:VEVENT
DTSTART;VALUE=DATE:20111008
DTEND;VALUE=DATE:20111010
DTSTAMP:20260425T201447
CREATED:20190215T065010Z
LAST-MODIFIED:20190701T051226Z
UID:12595-1318032000-1318204799@www.histoire-vivante.org
SUMMARY:Marché de l'Histoire\, Minden (Allemagne)
DESCRIPTION:Plus de 70 exposants de 14 nationalités \nPériodes couvertes: Préhistoire\, Antiquité\, Moyen Age\, Renaissance\, Empire\, Belle Epoque\, Guerres Mondiales \nGalerie photo \n\n  \n    \n\n  \n			\n				\n            					\n  						\n							\n															\n  							  							  						\n  						  					\n          					\n					\n\n					\n										\n						Marché de l’Histoire\, Minden 2011
URL:https://www.histoire-vivante.org/evenement/marche-de-lhistoire-minden-allemagne-2011
LOCATION:Minden\, Kanzlers Weide\, Minden\, 32300\, Allemagne
CATEGORIES:Marché de l'Histoire
ATTACH;FMTTYPE=image/jpeg:https://www.histoire-vivante.org/wp-content/uploads/Affiche-69-e1550213234397.jpg
END:VEVENT
BEGIN:VEVENT
DTSTART;VALUE=DATE:20111009
DTEND;VALUE=DATE:20111010
DTSTAMP:20260425T201447
CREATED:20190215T065945Z
LAST-MODIFIED:20190220T110628Z
UID:12601-1318118400-1318204799@www.histoire-vivante.org
SUMMARY:Fête médiévale\, Nointel (60)
DESCRIPTION:Fête médiévale \nGalerie photo \n\n  \n    \n\n  \n			\n				\n            					\n  						\n							\n															\n  							  							  						\n  						  					\n          					\n					\n\n					\n										\n						Fête médiévale\, Nointel 2011
URL:https://www.histoire-vivante.org/evenement/fete-medievale-nointel-60-2011
LOCATION:Nointel\, Nointel\, 60840\, France
CATEGORIES:Autres évènements
ATTACH;FMTTYPE=image/jpeg:https://www.histoire-vivante.org/wp-content/uploads/Nointel-e1550832348243.jpg
END:VEVENT
BEGIN:VEVENT
DTSTART;VALUE=DATE:20111015
DTEND;VALUE=DATE:20111017
DTSTAMP:20260425T201448
CREATED:20190626T070749Z
LAST-MODIFIED:20190701T051018Z
UID:20322-1318636800-1318809599@www.histoire-vivante.org
SUMMARY:Marché de l'Histoire\, Nantes (44)
DESCRIPTION:Plus de 100 exposants de 9 nationalités \nATTENTION : le marché était couplé à un Festival du Spectacle Historique \nFous d’Histoire Nantes \nPériodes couvertes: Préhistoire\, Antiquité\, Moyen Age\, Renaissance\, Empire\, Belle Epoque\, Guerres Mondiales \nGalerie photo \n\n  \n    \n\n  \n			\n				\n            					\n  						\n							\n															\n  							  							  						\n  						  					\n          					\n					\n\n					\n										\n						Fous d’Histoire\, Nantes 2011\n					\n										\n					                    \n					\n					\n					\n					\n									\n			\n		\nArticles de presse \nArticle de Ouest France 1a Article de Ouest France 1b Article de Ouest France 2 Picard Article de Ouest France 3a Article de Ouest France Article de Presse Océan
URL:https://www.histoire-vivante.org/evenement/marche-de-lhistoire-nantes-44-2011
LOCATION:ExpoNantes\, Route de Saint Joseph de Porterie\, Nantes\, 44300\, France
CATEGORIES:Marché de l'Histoire
ATTACH;FMTTYPE=image/jpeg:https://www.histoire-vivante.org/wp-content/uploads/Affiche-107.jpg
END:VEVENT
BEGIN:VEVENT
DTSTART;VALUE=DATE:20111015
DTEND;VALUE=DATE:20111017
DTSTAMP:20260425T201448
CREATED:20190626T070813Z
LAST-MODIFIED:20190629T141726Z
UID:20321-1318636800-1318809599@www.histoire-vivante.org
SUMMARY:Fous d'Histoire\, Nantes (44)
DESCRIPTION:Plus de 30 compagnies professionnelles et amateures du spectacle historique réparties en plusieurs catégories: musique\, danse et chant; théâtre et spectacle de rue; dressage et spectacle animalier; artisanat et démonstrations; art militaire; animations et prestations diverses; technique et accessoires; sites historiques animés. \nCe festival\, ouvert au grand public\, a également tenu lieu de salon professionnel et a ainsi permis aux organisateurs de manifestations historiques et autres propriétaires de sites à animer de rencontrer les intervenants présents et de découvrir leurs animations. \nDes conférences sur divers domaines liés à l’Histoire Vivante étaient également proposées: archéologie expérimentale\, presse et media\, gestion de sites historiques\, reconstitution et animation… \nATTENTION : le festival était couplé à un Marché de l’Histoire \nMarché de l’Histoire de Nantes \nPériodes couvertes: Préhistoire\, Antiquité\, Moyen Age\, Renaissance\, Empires\, Belle Epoque\, Guerres Mondiales \nArticles de presse \nArticle de Ouest France 1a Article de Ouest France 1b Article de Ouest France 2 Picard Article de Ouest France 3a Article de Ouest France Article de Presse Océan
URL:https://www.histoire-vivante.org/evenement/fous-dhistoire-nantes-44-2011
LOCATION:ExpoNantes\, Route de Saint Joseph de Porterie\, Nantes\, 44300\, France
CATEGORIES:Fous d'Histoire
ATTACH;FMTTYPE=image/jpeg:https://www.histoire-vivante.org/wp-content/uploads/Affiche-107.jpg
END:VEVENT
END:VCALENDAR