BEGIN:VCALENDAR
VERSION:2.0
PRODID:-//ApHV - ECPv6.11.2//NONSGML v1.0//EN
CALSCALE:GREGORIAN
METHOD:PUBLISH
X-WR-CALNAME:ApHV
X-ORIGINAL-URL:https://www.histoire-vivante.org
X-WR-CALDESC:Évènements pour ApHV
REFRESH-INTERVAL;VALUE=DURATION:PT1H
X-Robots-Tag:noindex
X-PUBLISHED-TTL:PT1H
BEGIN:VTIMEZONE
TZID:Europe/Paris
BEGIN:DAYLIGHT
TZOFFSETFROM:+0100
TZOFFSETTO:+0200
TZNAME:CEST
DTSTART:20120325T010000
END:DAYLIGHT
BEGIN:STANDARD
TZOFFSETFROM:+0200
TZOFFSETTO:+0100
TZNAME:CET
DTSTART:20121028T010000
END:STANDARD
END:VTIMEZONE
BEGIN:VEVENT
DTSTART;VALUE=DATE:20120101
DTEND;VALUE=DATE:20130101
DTSTAMP:20260423T050844
CREATED:20180913T073331Z
LAST-MODIFIED:20181219T125614Z
UID:2592-1325376000-1356998399@www.histoire-vivante.org
SUMMARY:Antiquités médiévales\, Azincourt (62)
DESCRIPTION:Plus de 200 antiquités: armes et armures\, bijoux\, parchemins\, bouclerie\, ustensiles de cuisine\, monnaies\, accessoires vestimentaires\, objets religieux\, jeux et jouets… \nGalerie photo \n\n  \n    \n\n  \n			\n				\n            					\n  						\n							\n															\n  							  							  						\n  						  					\n          					\n					\n\n					\n										\n						Exposition antiquités médiévales\, Azincourt 2007
URL:https://www.histoire-vivante.org/evenement/antiquites-medievales-azincourt-62-2012
LOCATION:Centre Historique Médiéval d’Azincourt\, 24 rue Charles VI\, Azincourt\, 62310\, France
CATEGORIES:Expositions
ATTACH;FMTTYPE=image/jpeg:https://www.histoire-vivante.org/wp-content/uploads/ARMU001-e1536823643509.jpg
END:VEVENT
BEGIN:VEVENT
DTSTART;VALUE=DATE:20120402
DTEND;VALUE=DATE:20121230
DTSTAMP:20260423T050844
CREATED:20180731T115927Z
LAST-MODIFIED:20181219T144534Z
UID:1136-1333324800-1356825599@www.histoire-vivante.org
SUMMARY:"Grandir au Moyen Age"\, Domrémy la Pucelle (88)
DESCRIPTION:Dans le cadre des 600 ans de la naissance de Jeanne d’Arc \nDiverses reconstitutions de fac-similés: toupies\, jeux\, nécessaire d’écolier\, poupée\, berceau\, trotteur… \nGalerie photo \n\n  \n    \n\n  \n			\n				\n            					\n  						\n							\n															\n  							  							  						\n  						  					\n          					\n					\n\n					\n										\n						Exposition « Grandir au Moyen Age »\, Domrémy la Pucelle 2012
URL:https://www.histoire-vivante.org/evenement/grandir-au-moyen-age-domremy-la-pucelle-88-2012
LOCATION:Centre d’Interprétation Visages de Jeanne\, Domrémy la Pucelle\, 88630\, France
CATEGORIES:Expositions
ATTACH;FMTTYPE=image/gif:https://www.histoire-vivante.org/wp-content/uploads/exposition-2012-domremy-04.gif
END:VEVENT
BEGIN:VEVENT
DTSTART;VALUE=DATE:20120701
DTEND;VALUE=DATE:20130101
DTSTAMP:20260423T050844
CREATED:20180913T065748Z
LAST-MODIFIED:20181219T160939Z
UID:2560-1341100800-1356998399@www.histoire-vivante.org
SUMMARY:"Petit tour au Moyen Age"\, Musée du Vexin Français\, Thémericourt (95)
DESCRIPTION:Diverses reconstitutions de fac-similés: armes et armures\, ustensiles de cuisine\, instruments de médecine\, jouets\, accessoires d’écriture\, objets religieux… \nGalerie photo \n\n  \n    \n\n  \n			\n				\n            					\n  						\n							\n															\n  							  							  						\n  						  					\n          					\n					\n\n					\n										\n						Exposition « Petit tour au Moyen Age »\, Musée du Vexin Français\, Thémericourt 2012
URL:https://www.histoire-vivante.org/evenement/petit-tour-au-moyen-age-mvf-themericourt-95-2012
LOCATION:Musée du Vexin Français\, Thémericourt\, 95450\, France
CATEGORIES:Expositions
ATTACH;FMTTYPE=image/jpeg:https://www.histoire-vivante.org/wp-content/uploads/P1050640-e1536825172393.jpg
END:VEVENT
BEGIN:VEVENT
DTSTART;VALUE=DATE:20120714
DTEND;VALUE=DATE:20120827
DTSTAMP:20260423T050844
CREATED:20190211T171813Z
LAST-MODIFIED:20190215T164725Z
UID:12449-1342224000-1346025599@www.histoire-vivante.org
SUMMARY:Animations médiévales\, Domrémy-la-Pucelle (88)
DESCRIPTION:Animations médiévales \nDans le cadre de l’exposition « Grandir au Moyen Age » \nGalerie photo \n\n  \n    \n\n  \n			\n				\n            					\n  						\n							\n															\n  							  							  						\n  						  					\n          					\n					\n\n					\n										\n						Animations médiévales\, Domrémy-la-Pucelle 2012
URL:https://www.histoire-vivante.org/evenement/animations-medievales-domremy-la-pucelle-88-2012
LOCATION:Centre d’Interprétation Visages de Jeanne\, Domrémy la Pucelle\, 88630\, France
CATEGORIES:Autres évènements
ATTACH;FMTTYPE=image/jpeg:https://www.histoire-vivante.org/wp-content/uploads/Domremy.jpg
END:VEVENT
BEGIN:VEVENT
DTSTART;VALUE=DATE:20120805
DTEND;VALUE=DATE:20120813
DTSTAMP:20260423T050844
CREATED:20190212T080301Z
LAST-MODIFIED:20190212T080301Z
UID:12494-1344124800-1344815999@www.histoire-vivante.org
SUMMARY:Taverne et banquets médiévaux\, Crèvecoeur-en-Auge (14)
DESCRIPTION:Taverne et banquets médiévaux \nDans le cadre des Médiévales de Crèvecoeur
URL:https://www.histoire-vivante.org/evenement/taverne-et-banquets-medievaux-crevecoeur-en-auge-14-2012
LOCATION:Château de Crèvecoeur\, Crèvecoeur-en-Auge\, 14340\, France
CATEGORIES:Autres évènements
ATTACH;FMTTYPE=image/jpeg:https://www.histoire-vivante.org/wp-content/uploads/Affiche-59.jpg
END:VEVENT
BEGIN:VEVENT
DTSTART;VALUE=DATE:20120810
DTEND;VALUE=DATE:20120813
DTSTAMP:20260423T050844
CREATED:20190211T181316Z
LAST-MODIFIED:20190218T144743Z
UID:12457-1344556800-1344815999@www.histoire-vivante.org
SUMMARY:L'Epopée Médiévale\, Loches (37)
DESCRIPTION:Fête médiévale \nGalerie photo \n\n  \n    \n\n  \n			\n				\n            					\n  						\n							\n															\n  							  							  						\n  						  					\n          					\n					\n\n					\n										\n						L’Epopée Médiévale\, Loches 2012
URL:https://www.histoire-vivante.org/evenement/lepopee-medievale-loches-37-2012
LOCATION:Cité Royale de Loches\, 5 place Charles VII\, Loches\, 37600\, France
CATEGORIES:Autres évènements
ATTACH;FMTTYPE=image/jpeg:https://www.histoire-vivante.org/wp-content/uploads/Affiche-50.jpg
END:VEVENT
END:VCALENDAR