BEGIN:VCALENDAR
VERSION:2.0
PRODID:-//ApHV - ECPv6.11.2//NONSGML v1.0//EN
CALSCALE:GREGORIAN
METHOD:PUBLISH
X-WR-CALNAME:ApHV
X-ORIGINAL-URL:https://www.histoire-vivante.org
X-WR-CALDESC:Évènements pour ApHV
REFRESH-INTERVAL;VALUE=DURATION:PT1H
X-Robots-Tag:noindex
X-PUBLISHED-TTL:PT1H
BEGIN:VTIMEZONE
TZID:Europe/Paris
BEGIN:DAYLIGHT
TZOFFSETFROM:+0100
TZOFFSETTO:+0200
TZNAME:CEST
DTSTART:20130331T010000
END:DAYLIGHT
BEGIN:STANDARD
TZOFFSETFROM:+0200
TZOFFSETTO:+0100
TZNAME:CET
DTSTART:20131027T010000
END:STANDARD
END:VTIMEZONE
BEGIN:VEVENT
DTSTART;VALUE=DATE:20130101
DTEND;VALUE=DATE:20140101
DTSTAMP:20260422T140747
CREATED:20180913T073415Z
LAST-MODIFIED:20181219T125556Z
UID:2594-1356998400-1388534399@www.histoire-vivante.org
SUMMARY:Antiquités médiévales\, Azincourt (62)
DESCRIPTION:Plus de 200 antiquités: armes et armures\, bijoux\, parchemins\, bouclerie\, ustensiles de cuisine\, monnaies\, accessoires vestimentaires\, objets religieux\, jeux et jouets… \nGalerie photo \n\n  \n    \n\n  \n			\n				\n            					\n  						\n							\n															\n  							  							  						\n  						  					\n          					\n					\n\n					\n										\n						Exposition antiquités médiévales\, Azincourt 2007
URL:https://www.histoire-vivante.org/evenement/antiquites-medievales-azincourt-62-2013
LOCATION:Centre Historique Médiéval d’Azincourt\, 24 rue Charles VI\, Azincourt\, 62310\, France
CATEGORIES:Expositions
ATTACH;FMTTYPE=image/jpeg:https://www.histoire-vivante.org/wp-content/uploads/ARMU001-e1536823643509.jpg
END:VEVENT
BEGIN:VEVENT
DTSTART;VALUE=DATE:20130501
DTEND;VALUE=DATE:20130502
DTSTAMP:20260422T140747
CREATED:20190206T073742Z
LAST-MODIFIED:20190207T143732Z
UID:11193-1367366400-1367452799@www.histoire-vivante.org
SUMMARY:Marché Médiéval de l'Ile Charlemagne\, Orléans (45)
DESCRIPTION:Marché médiéval \nDans le cadre des Fêtes de Jeanne d’Arc \nGalerie photo \n\n  \n    \n\n  \n			\n				\n            					\n  						\n							\n															\n  							  							  						\n  						  					\n          					\n					\n\n					\n										\n						Marché Médiéval de l’Ile Charlemagne\, Orléans 2013
URL:https://www.histoire-vivante.org/evenement/marche-medieval-de-lile-charlemagne-orleans-45-2013
LOCATION:Ile Charlemagne\, Orléans\, 45000\, France
CATEGORIES:Autres évènements
ATTACH;FMTTYPE=image/gif:https://www.histoire-vivante.org/wp-content/uploads/Affiche-8.gif
END:VEVENT
BEGIN:VEVENT
DTSTART;VALUE=DATE:20130507
DTEND;VALUE=DATE:20130510
DTSTAMP:20260422T140747
CREATED:20190206T073912Z
LAST-MODIFIED:20190207T151254Z
UID:11196-1367884800-1368143999@www.histoire-vivante.org
SUMMARY:Marché Médiéval du Campo Santo\, Orléans (45)
DESCRIPTION:Marché médiéval \nDans le cadre des Fêtes de Jeanne d’Arc \nGalerie photo \n\n  \n    \n\n  \n			\n				\n            					\n  						\n							\n															\n  							  							  						\n  						  					\n          					\n					\n\n					\n										\n						Marché Médiéval du Campo Santo\, Orléans 2013
URL:https://www.histoire-vivante.org/evenement/marche-medieval-du-campo-santo-orleans-45-2013
LOCATION:Campo Santo\, Rue Fernand Rabier\, Orléans\, 45000\, France
CATEGORIES:Autres évènements
ATTACH;FMTTYPE=image/gif:https://www.histoire-vivante.org/wp-content/uploads/Affiche-8.gif
END:VEVENT
BEGIN:VEVENT
DTSTART;VALUE=DATE:20130510
DTEND;VALUE=DATE:20130512
DTSTAMP:20260422T140747
CREATED:20190205T150857Z
LAST-MODIFIED:20190207T152143Z
UID:11166-1368144000-1368316799@www.histoire-vivante.org
SUMMARY:Les Caritas\, Béziers (34)
DESCRIPTION:Fête médiévale \nGalerie photo \n\n  \n    \n\n  \n			\n				\n            					\n  						\n							\n															\n  							  							  						\n  						  					\n          					\n					\n\n					\n										\n						Les Caritas\, Béziers 2013
URL:https://www.histoire-vivante.org/evenement/les-caritas-beziers-34-2013
LOCATION:Béziers\, Allée Paul Riquet\, Béziers\, 34500\, France
CATEGORIES:Autres évènements
ATTACH;FMTTYPE=image/jpeg:https://www.histoire-vivante.org/wp-content/uploads/Affiche-36.jpg
END:VEVENT
BEGIN:VEVENT
DTSTART;VALUE=DATE:20130525
DTEND;VALUE=DATE:20130527
DTSTAMP:20260422T140747
CREATED:20190206T071747Z
LAST-MODIFIED:20190207T153110Z
UID:11189-1369440000-1369612799@www.histoire-vivante.org
SUMMARY:Geekopolis\, Montreuil (93)
DESCRIPTION:Festival des Cultures de l’Imaginaire \nGalerie photo \n\n  \n    \n\n  \n			\n				\n            					\n  						\n							\n															\n  							  							  						\n  						  					\n          					\n					\n\n					\n										\n						Geekopolis\, Montreuil 2013
URL:https://www.histoire-vivante.org/evenement/geekopolis-montreuil-93-2013
LOCATION:Palais des Congrès Paris-Est\, 128 rue de Paris\, Montreuil\, 93100\, France
CATEGORIES:Autres évènements
ATTACH;FMTTYPE=image/jpeg:https://www.histoire-vivante.org/wp-content/uploads/Affiche-41-e1549437445750.jpg
END:VEVENT
BEGIN:VEVENT
DTSTART;VALUE=DATE:20130526
DTEND;VALUE=DATE:20130527
DTSTAMP:20260422T140747
CREATED:20190206T082358Z
LAST-MODIFIED:20190218T112355Z
UID:11212-1369526400-1369612799@www.histoire-vivante.org
SUMMARY:MédiéVal d’Oise\, Pontoise (95)
DESCRIPTION:Fête médiévale \nThème: « Bâtisseurs du Moyen Age » \nGalerie photo \n\n  \n    \n\n  \n			\n				\n            					\n  						\n							\n															\n  							  							  						\n  						  					\n          					\n					\n\n					\n										\n						MédiéVal d’Oise\, Pontoise 2013
URL:https://www.histoire-vivante.org/evenement/medieval-doise-pontoise-95-2013
LOCATION:Pontoise\, Pontoise\, France
CATEGORIES:Autres évènements
ATTACH;FMTTYPE=image/jpeg:https://www.histoire-vivante.org/wp-content/uploads/Affiche-45.jpg
END:VEVENT
END:VCALENDAR