BEGIN:VCALENDAR
VERSION:2.0
PRODID:-//ApHV - ECPv6.11.2//NONSGML v1.0//EN
CALSCALE:GREGORIAN
METHOD:PUBLISH
X-ORIGINAL-URL:https://www.histoire-vivante.org
X-WR-CALDESC:Évènements pour ApHV
REFRESH-INTERVAL;VALUE=DURATION:PT1H
X-Robots-Tag:noindex
X-PUBLISHED-TTL:PT1H
BEGIN:VTIMEZONE
TZID:Europe/Paris
BEGIN:DAYLIGHT
TZOFFSETFROM:+0100
TZOFFSETTO:+0200
TZNAME:CEST
DTSTART:20130331T010000
END:DAYLIGHT
BEGIN:STANDARD
TZOFFSETFROM:+0200
TZOFFSETTO:+0100
TZNAME:CET
DTSTART:20131027T010000
END:STANDARD
END:VTIMEZONE
BEGIN:VEVENT
DTSTART;VALUE=DATE:20130101
DTEND;VALUE=DATE:20140101
DTSTAMP:20260420T140209
CREATED:20180913T073415Z
LAST-MODIFIED:20181219T125556Z
UID:2594-1356998400-1388534399@www.histoire-vivante.org
SUMMARY:Antiquités médiévales\, Azincourt (62)
DESCRIPTION:Plus de 200 antiquités: armes et armures\, bijoux\, parchemins\, bouclerie\, ustensiles de cuisine\, monnaies\, accessoires vestimentaires\, objets religieux\, jeux et jouets… \nGalerie photo \n\n  \n    \n\n  \n			\n				\n            					\n  						\n							\n															\n  							  							  						\n  						  					\n          					\n					\n\n					\n										\n						Exposition antiquités médiévales\, Azincourt 2007
URL:https://www.histoire-vivante.org/evenement/antiquites-medievales-azincourt-62-2013
LOCATION:Centre Historique Médiéval d’Azincourt\, 24 rue Charles VI\, Azincourt\, 62310\, France
CATEGORIES:Expositions
ATTACH;FMTTYPE=image/jpeg:https://www.histoire-vivante.org/wp-content/uploads/ARMU001-e1536823643509.jpg
END:VEVENT
BEGIN:VEVENT
DTSTART;VALUE=DATE:20130601
DTEND;VALUE=DATE:20131201
DTSTAMP:20260420T140209
CREATED:20180913T070204Z
LAST-MODIFIED:20181219T145221Z
UID:2563-1370044800-1385855999@www.histoire-vivante.org
SUMMARY:"Le Jardin au Moyen Age"\, Domrémy la Pucelle (88)
DESCRIPTION:Jardin médiéval éphémère \nDiverses reconstitutions de fac-similés: chantepleures\, râteau\, bêche\, fléau\, fourche\, hotte… \nGalerie photo \n\n  \n    \n\n  \n			\n				\n            					\n  						\n							\n															\n  							  							  						\n  						  					\n          					\n					\n\n					\n										\n						Exposition « Le Jardin au Moyen Age »\, Domrémy la Pucelle 2013
URL:https://www.histoire-vivante.org/evenement/le-jardin-au-moyen-age-domremy-la-pucelle-88-2013
LOCATION:Centre d’Interprétation Visages de Jeanne\, Domrémy la Pucelle\, 88630\, France
CATEGORIES:Expositions
ATTACH;FMTTYPE=image/jpeg:https://www.histoire-vivante.org/wp-content/uploads/IMG_0367-e1536825575220.jpg
END:VEVENT
BEGIN:VEVENT
DTSTART;VALUE=DATE:20130914
DTEND;VALUE=DATE:20130916
DTSTAMP:20260420T140209
CREATED:20190205T145936Z
LAST-MODIFIED:20200416T065200Z
UID:11157-1379116800-1379289599@www.histoire-vivante.org
SUMMARY:Les Médiévales de Belleperche\, Cordes Tolosannes (82)
DESCRIPTION:Fête médiévale \nThème: « Enfance et Féérie » \nGalerie photo \n\n  \n    \n\n  \n			\n				\n            					\n  						\n							\n															\n  							  							  						\n  						  					\n          					\n					\n\n					\n										\n						Les Médiévales de Belleperche\, Cordes Tolosannes 2013
URL:https://www.histoire-vivante.org/evenement/les-medievales-de-belleperche-cordes-tolosannes-82-2013
LOCATION:Abbaye de Belleperche\, Abbaye de Belleperche\, Cordes Tolosannes\, 82700
CATEGORIES:Autres évènements
ATTACH;FMTTYPE=image/gif:https://www.histoire-vivante.org/wp-content/uploads/Affiche-6.gif
END:VEVENT
BEGIN:VEVENT
DTSTART;VALUE=DATE:20130921
DTEND;VALUE=DATE:20130923
DTSTAMP:20260420T140209
CREATED:20190206T081055Z
LAST-MODIFIED:20190701T051535Z
UID:11202-1379721600-1379894399@www.histoire-vivante.org
SUMMARY:Marché de l'Histoire\, Liège (Belgique)
DESCRIPTION:Plus de 100 exposants de 11 nationalités \nPériodes couvertes: Préhistoire\, Antiquité\, Moyen Age\, Renaissance\, Empire\, Belle Epoque\, Guerres Mondiales \nGalerie photo \n\n  \n    \n\n  \n			\n				\n            					\n  						\n							\n															\n  							  							  						\n  						  					\n          					\n					\n\n					\n										\n						Marché de l’Histoire\, Liège 2013
URL:https://www.histoire-vivante.org/evenement/marche-de-lhistoire-liege-belgique-2013
LOCATION:Halles des Foires de Liège\, Avenue Maurice Denis 4\, Liège\, 4000\, Belgique
CATEGORIES:Marché de l'Histoire
ATTACH;FMTTYPE=image/jpeg:https://www.histoire-vivante.org/wp-content/uploads/Tract-recto-1-e1549440561524.jpg
END:VEVENT
END:VCALENDAR