BEGIN:VCALENDAR
VERSION:2.0
PRODID:-//ApHV - ECPv6.11.2//NONSGML v1.0//EN
CALSCALE:GREGORIAN
METHOD:PUBLISH
X-WR-CALNAME:ApHV
X-ORIGINAL-URL:https://www.histoire-vivante.org
X-WR-CALDESC:Évènements pour ApHV
REFRESH-INTERVAL;VALUE=DURATION:PT1H
X-Robots-Tag:noindex
X-PUBLISHED-TTL:PT1H
BEGIN:VTIMEZONE
TZID:Europe/Paris
BEGIN:DAYLIGHT
TZOFFSETFROM:+0100
TZOFFSETTO:+0200
TZNAME:CEST
DTSTART:20130331T010000
END:DAYLIGHT
BEGIN:STANDARD
TZOFFSETFROM:+0200
TZOFFSETTO:+0100
TZNAME:CET
DTSTART:20131027T010000
END:STANDARD
END:VTIMEZONE
BEGIN:VEVENT
DTSTART;VALUE=DATE:20130101
DTEND;VALUE=DATE:20140101
DTSTAMP:20260420T105405
CREATED:20180913T073415Z
LAST-MODIFIED:20181219T125556Z
UID:2594-1356998400-1388534399@www.histoire-vivante.org
SUMMARY:Antiquités médiévales\, Azincourt (62)
DESCRIPTION:Plus de 200 antiquités: armes et armures\, bijoux\, parchemins\, bouclerie\, ustensiles de cuisine\, monnaies\, accessoires vestimentaires\, objets religieux\, jeux et jouets… \nGalerie photo \n\n  \n    \n\n  \n			\n				\n            					\n  						\n							\n															\n  							  							  						\n  						  					\n          					\n					\n\n					\n										\n						Exposition antiquités médiévales\, Azincourt 2007
URL:https://www.histoire-vivante.org/evenement/antiquites-medievales-azincourt-62-2013
LOCATION:Centre Historique Médiéval d’Azincourt\, 24 rue Charles VI\, Azincourt\, 62310\, France
CATEGORIES:Expositions
ATTACH;FMTTYPE=image/jpeg:https://www.histoire-vivante.org/wp-content/uploads/ARMU001-e1536823643509.jpg
END:VEVENT
BEGIN:VEVENT
DTSTART;VALUE=DATE:20130601
DTEND;VALUE=DATE:20131201
DTSTAMP:20260420T105405
CREATED:20180913T070204Z
LAST-MODIFIED:20181219T145221Z
UID:2563-1370044800-1385855999@www.histoire-vivante.org
SUMMARY:"Le Jardin au Moyen Age"\, Domrémy la Pucelle (88)
DESCRIPTION:Jardin médiéval éphémère \nDiverses reconstitutions de fac-similés: chantepleures\, râteau\, bêche\, fléau\, fourche\, hotte… \nGalerie photo \n\n  \n    \n\n  \n			\n				\n            					\n  						\n							\n															\n  							  							  						\n  						  					\n          					\n					\n\n					\n										\n						Exposition « Le Jardin au Moyen Age »\, Domrémy la Pucelle 2013
URL:https://www.histoire-vivante.org/evenement/le-jardin-au-moyen-age-domremy-la-pucelle-88-2013
LOCATION:Centre d’Interprétation Visages de Jeanne\, Domrémy la Pucelle\, 88630\, France
CATEGORIES:Expositions
ATTACH;FMTTYPE=image/jpeg:https://www.histoire-vivante.org/wp-content/uploads/IMG_0367-e1536825575220.jpg
END:VEVENT
BEGIN:VEVENT
DTSTART;VALUE=DATE:20131005
DTEND;VALUE=DATE:20131130
DTSTAMP:20260420T105405
CREATED:20180913T070952Z
LAST-MODIFIED:20190626T083010Z
UID:2570-1380931200-1385769599@www.histoire-vivante.org
SUMMARY:"Corbeil sous Henri IV : la ville assiégée"\, Corbeil Essonnes (91)
DESCRIPTION:Diverses reconstitutions de scènes: campement militaire\, échoppe de marchand\, intérieur bourgeois… \nGalerie photo \n\n  \n    \n\n  \n			\n				\n            					\n  						\n							\n															\n  							  							  						\n  						  					\n          					\n					\n\n					\n										\n						Exposition « Corbeil sous Henri IV : la ville assiégée »\, Corbeil Essonnes 2013
URL:https://www.histoire-vivante.org/evenement/corbeil-sous-henri-iv-corbeil-essonnes-91-2013
LOCATION:Commanderie Saint-Jean\, 24 Rue Widmer\, Corbeil-Essonnes\, 91100\, France
CATEGORIES:Expositions
ATTACH;FMTTYPE=image/jpeg:https://www.histoire-vivante.org/wp-content/uploads/IMG_1187-e1536825745376.jpg
END:VEVENT
BEGIN:VEVENT
DTSTART;VALUE=DATE:20131116
DTEND;VALUE=DATE:20131118
DTSTAMP:20260420T105405
CREATED:20190206T065605Z
LAST-MODIFIED:20190701T042702Z
UID:11184-1384560000-1384732799@www.histoire-vivante.org
SUMMARY:Fous d'Histoire\, Pontoise (95)
DESCRIPTION:Plus de 110 compagnies professionnelles et amateures du spectacle historique réparties en plusieurs catégories: musique\, danse et chant; théâtre et spectacle de rue; dressage et spectacle animalier; artisanat et démonstrations; art militaire; animations et prestations diverses; technique et accessoires; sites historiques animés. \nCe festival\, ouvert au grand public\, a également tenu lieu de salon professionnel et a ainsi permis aux organisateurs de manifestations historiques et autres propriétaires de sites à animer de rencontrer les intervenants présents et de découvrir leurs animations. \nLe vendredi était également ouvert mais réservé aux scolaires (et aux organisateurs de manifestations historiques) avec possibilité d’assister à de nombreux spectacles \nATTENTION : le festival était couplé à un Marché de l’Histoire \nMarché de l’Histoire de Pontoise \nPériodes couvertes: Préhistoire\, Antiquité\, Moyen Age\, Renaissance\, Empires\, Belle Epoque\, Guerres Mondiales \nTrophées \nDans chaque catégorie\, un Gros Coup de Coeur et un Petit Coup de Coeur ont été désignés par un jury composé de professionnels et d’amateurs éclairés du monde du spectacle historique. Chaque Gros Coup de Cœur s’est vu remettre un trophée Fous d’Histoire 2013 réalisé par un artisan d’art\, Ferran Garreta. Un neuvième trophée dédié au Costume Historique et Festif a également été remis ainsi qu’un dixième trophée dédié à la Décoration de Stand et un onzième trophée dédié quant à lui à la Création Artistique et Technique. \n\n\n\n\n	TrophéeNomCommentaire\n\n\n\n\n	Animations et prestations diverses\nGros Coup de CœurCompagnie des Jeux d'OcJeux médiévaux\n\n\n	Animations et prestations diverses\nPetit Coup de CœurCompagnie Dro LigCharette des jeux\n\n\n	Art militaire\nGros Coup de CœurMachina SilenteMachines de guerre\n\n\n	Art militaire\nPetit Coup de CœurMedio EvoSpectacle "Belli Mercator"\n\n\n	Artisanat et démonstrations\nGros Coup de CœurDémo 2 JadisTaille de pierre\n\n\n	Artisanat et démonstrations\nPetit Coup de CœurLa Baraterie en ArtSculpture sur Pierre\n\n\n	Costume Historique et Festif\nGros Coup de CœurTan ElleilCostumes des "Contes du Bois d'En Haut"\n\n\n	Costume Historique et Festif\nPetit Coup de CœurScalpel et MatulaCostumes Grande Guerre\n\n\n	Création artistique et technique\nGros Coup de CoeurTaberna ItinerantisLa charrette mercière\n\n\n	Création artistique et technique\nPetit Coup de CoeurCréalidLa catapulte et le triporteur\n\n\n	Décoration de stand\nGros Coup de CœurEutrapelia\n\n\n	Décoration de stand\nPetit Coup de CœurVera Eikona\n\n\n	Dressage et spectacle animalier\nGros Coup de CœurAnimal ContactFerme forestière\n\n\n	Dressage et spectacle animalier\nPetit Coup de CoeurLes Portes de l'HistoireChar de guerre\n\n\n	Musique\, chant\, danse\nGros Coup de CoeurLes Compagnons du Gras JambonMusique médiévale\n\n\n	Musique\, chant\, danse\nPetit Coup de CoeurSonjMusique médiévale orientale\n\n\n	Site historique\nGros Coup de CœurRanda ArdescaArchéosite\n\n\n	Site historique\nPetit Coup de CœurAMVCCChâteau médiéval\n\n\n	Technique et accessoires\nGros Coup de CœurEntresortsCréation de costumes et de décors\n\n\n	Technique et accessoires\nPetit Coup de CœurAutant en Porte le VêtementCréation de costumes\n\n\n	Théâtre et spectacle de rue\nGros Coup de CœurCompagnie de l'EtincelanteThéâtre de rue\n\n\n	Théâtre et spectacle de rue\nPetit Coup de CœurTibodypaint / Pégase ProdEchassiers\n\n\n\n\nGalerie photo \n\n  \n    \n\n  \n			\n				\n            					\n  						\n							\n															\n  							  							  						\n  						  					\n          					\n					\n\n					\n										\n						Fous d’Histoire\, Pontoise 2013
URL:https://www.histoire-vivante.org/evenement/fous-dhistoire-pontoise-95-2013
LOCATION:Parc des Expositions de Pontoise\, Avenue Jules César\, Pontoise\, 95300\, France
CATEGORIES:Fous d'Histoire
ATTACH;FMTTYPE=image/jpeg:https://www.histoire-vivante.org/wp-content/uploads/Tract-recto-e1549436135144.jpg
END:VEVENT
BEGIN:VEVENT
DTSTART;VALUE=DATE:20131116
DTEND;VALUE=DATE:20131118
DTSTAMP:20260420T105405
CREATED:20190206T065752Z
LAST-MODIFIED:20190701T051551Z
UID:11187-1384560000-1384732799@www.histoire-vivante.org
SUMMARY:Marché de l'Histoire\, Pontoise (95)
DESCRIPTION:Plus de 200 exposants de 12 nationalités \nATTENTION : le marché était couplé à un Festival du Spectacle Historique \nFous d’Histoire Pontoise \nPériodes couvertes: Préhistoire\, Antiquité\, Moyen Age\, Renaissance\, Empire\, Belle Epoque\, Guerres Mondiales \nGalerie photo \n\n  \n    \n\n  \n			\n				\n            					\n  						\n							\n															\n  							  							  						\n  						  					\n          					\n					\n\n					\n										\n						Fous d’Histoire\, Pontoise 2013
URL:https://www.histoire-vivante.org/evenement/marche-de-lhistoire-pontoise-95-novembre-2013
LOCATION:Parc des Expositions de Pontoise\, Avenue Jules César\, Pontoise\, 95300\, France
CATEGORIES:Marché de l'Histoire
ATTACH;FMTTYPE=image/jpeg:https://www.histoire-vivante.org/wp-content/uploads/Tract-recto-e1549436135144.jpg
END:VEVENT
END:VCALENDAR