BEGIN:VCALENDAR
VERSION:2.0
PRODID:-//ApHV - ECPv6.11.2//NONSGML v1.0//EN
CALSCALE:GREGORIAN
METHOD:PUBLISH
X-WR-CALNAME:ApHV
X-ORIGINAL-URL:https://www.histoire-vivante.org
X-WR-CALDESC:Évènements pour ApHV
REFRESH-INTERVAL;VALUE=DURATION:PT1H
X-Robots-Tag:noindex
X-PUBLISHED-TTL:PT1H
BEGIN:VTIMEZONE
TZID:Europe/Paris
BEGIN:DAYLIGHT
TZOFFSETFROM:+0100
TZOFFSETTO:+0200
TZNAME:CEST
DTSTART:20140330T010000
END:DAYLIGHT
BEGIN:STANDARD
TZOFFSETFROM:+0200
TZOFFSETTO:+0100
TZNAME:CET
DTSTART:20141026T010000
END:STANDARD
END:VTIMEZONE
BEGIN:VEVENT
DTSTART;VALUE=DATE:20140101
DTEND;VALUE=DATE:20150101
DTSTAMP:20260420T041143
CREATED:20180913T073505Z
LAST-MODIFIED:20181219T145817Z
UID:2596-1388534400-1420070399@www.histoire-vivante.org
SUMMARY:Antiquités médiévales\, Azincourt (62)
DESCRIPTION:Plus de 200 antiquités: armes et armures\, bijoux\, parchemins\, bouclerie\, ustensiles de cuisine\, monnaies\, accessoires vestimentaires\, objets religieux\, jeux et jouets… \nGalerie photo \n\n  \n    \n\n  \n			\n				\n            					\n  						\n							\n															\n  							  							  						\n  						  					\n          					\n					\n\n					\n										\n						Exposition antiquités médiévales\, Azincourt 2007
URL:https://www.histoire-vivante.org/evenement/antiquites-medievales-azincourt-62-2014
LOCATION:Centre Historique Médiéval d’Azincourt\, 24 rue Charles VI\, Azincourt\, 62310\, France
CATEGORIES:Expositions
ATTACH;FMTTYPE=image/jpeg:https://www.histoire-vivante.org/wp-content/uploads/ARMU001-e1536823643509.jpg
END:VEVENT
BEGIN:VEVENT
DTSTART;VALUE=DATE:20140301
DTEND;VALUE=DATE:20140303
DTSTAMP:20260420T041143
CREATED:20190123T095809Z
LAST-MODIFIED:20190205T144322Z
UID:10092-1393632000-1393804799@www.histoire-vivante.org
SUMMARY:La Semaine Cévenole\, Alès (30)
DESCRIPTION:Fête XVIIème-XVIIIème siècles \nGalerie photo \n\n  \n    \n\n  \n			\n				\n            					\n  						\n							\n															\n  							  							  						\n  						  					\n          					\n					\n\n					\n										\n						La Semaine Cévenole\, Alès 2014
URL:https://www.histoire-vivante.org/evenement/la-semaine-cevenole-ales-30-2014
LOCATION:Alès\, Alès\, 30100\, France
CATEGORIES:Autres évènements
ATTACH;FMTTYPE=image/jpeg:https://www.histoire-vivante.org/wp-content/uploads/Affiche-29-e1548237439544.jpg
END:VEVENT
END:VCALENDAR