BEGIN:VCALENDAR
VERSION:2.0
PRODID:-//ApHV - ECPv6.11.2//NONSGML v1.0//EN
CALSCALE:GREGORIAN
METHOD:PUBLISH
X-ORIGINAL-URL:https://www.histoire-vivante.org
X-WR-CALDESC:Évènements pour ApHV
REFRESH-INTERVAL;VALUE=DURATION:PT1H
X-Robots-Tag:noindex
X-PUBLISHED-TTL:PT1H
BEGIN:VTIMEZONE
TZID:Europe/Paris
BEGIN:DAYLIGHT
TZOFFSETFROM:+0100
TZOFFSETTO:+0200
TZNAME:CEST
DTSTART:20140330T010000
END:DAYLIGHT
BEGIN:STANDARD
TZOFFSETFROM:+0200
TZOFFSETTO:+0100
TZNAME:CET
DTSTART:20141026T010000
END:STANDARD
END:VTIMEZONE
BEGIN:VEVENT
DTSTART;VALUE=DATE:20140101
DTEND;VALUE=DATE:20150101
DTSTAMP:20260420T023755
CREATED:20180913T073505Z
LAST-MODIFIED:20181219T145817Z
UID:2596-1388534400-1420070399@www.histoire-vivante.org
SUMMARY:Antiquités médiévales\, Azincourt (62)
DESCRIPTION:Plus de 200 antiquités: armes et armures\, bijoux\, parchemins\, bouclerie\, ustensiles de cuisine\, monnaies\, accessoires vestimentaires\, objets religieux\, jeux et jouets… \nGalerie photo \n\n  \n    \n\n  \n			\n				\n            					\n  						\n							\n															\n  							  							  						\n  						  					\n          					\n					\n\n					\n										\n						Exposition antiquités médiévales\, Azincourt 2007
URL:https://www.histoire-vivante.org/evenement/antiquites-medievales-azincourt-62-2014
LOCATION:Centre Historique Médiéval d’Azincourt\, 24 rue Charles VI\, Azincourt\, 62310\, France
CATEGORIES:Expositions
ATTACH;FMTTYPE=image/jpeg:https://www.histoire-vivante.org/wp-content/uploads/ARMU001-e1536823643509.jpg
END:VEVENT
BEGIN:VEVENT
DTSTART;VALUE=DATE:20140405
DTEND;VALUE=DATE:20140407
DTSTAMP:20260420T023755
CREATED:20190123T104412Z
LAST-MODIFIED:20190701T051559Z
UID:10121-1396656000-1396828799@www.histoire-vivante.org
SUMMARY:Marché de l'Histoire\, Orange (84)
DESCRIPTION:Plus de 70 exposants de 9 nationalités \nDans le cadre du Prince d’Orange \nSite internet du Prince d’Orange \nPériodes couvertes: Préhistoire\, Antiquité\, Moyen Age\, Renaissance\, Empire\, Belle Epoque\, Guerres Mondiales \nGalerie photo \n\n  \n    \n\n  \n			\n				\n            					\n  						\n							\n															\n  							  							  						\n  						  					\n          					\n					\n\n					\n										\n						Marché de l’Histoire\, Orange 2014
URL:https://www.histoire-vivante.org/evenement/marche-de-lhistoire-orange-84-2014
LOCATION:Parc des Expos d’Orange\, Avenue Charles Dardun\, Orange\, 84100\, France
CATEGORIES:Marché de l'Histoire
ATTACH;FMTTYPE=image/jpeg:https://www.histoire-vivante.org/wp-content/uploads/Tract-e1548240142441.jpg
END:VEVENT
BEGIN:VEVENT
DTSTART;VALUE=DATE:20140412
DTEND;VALUE=DATE:20140414
DTSTAMP:20260420T023755
CREATED:20190123T094711Z
LAST-MODIFIED:20190628T155658Z
UID:10083-1397260800-1397433599@www.histoire-vivante.org
SUMMARY:Marché de l'Histoire\, Pontoise (95)
DESCRIPTION:Plus de 250 exposants de 14 nationalités \nPériodes couvertes: Préhistoire\, Antiquité\, Moyen Age\, Renaissance\, Empires\, Belle Epoque\, Guerres Mondiales \nGalerie photo \n\n  \n    \n\n  \n			\n				\n            					\n  						\n							\n															\n  							  							  						\n  						  					\n          					\n					\n\n					\n										\n						Marché de l’Histoire\, Pontoise 2014
URL:https://www.histoire-vivante.org/evenement/marche-de-lhistoire-pontoise-95-avril-2014
LOCATION:Parc des Expositions de Pontoise\, Avenue Jules César\, Pontoise\, 95300\, France
CATEGORIES:Marché de l'Histoire
ATTACH;FMTTYPE=image/jpeg:https://www.histoire-vivante.org/wp-content/uploads/Affiche-A3-BD.jpg
END:VEVENT
END:VCALENDAR