BEGIN:VCALENDAR
VERSION:2.0
PRODID:-//ApHV - ECPv6.11.2//NONSGML v1.0//EN
CALSCALE:GREGORIAN
METHOD:PUBLISH
X-WR-CALNAME:ApHV
X-ORIGINAL-URL:https://www.histoire-vivante.org
X-WR-CALDESC:Évènements pour ApHV
REFRESH-INTERVAL;VALUE=DURATION:PT1H
X-Robots-Tag:noindex
X-PUBLISHED-TTL:PT1H
BEGIN:VTIMEZONE
TZID:Europe/Paris
BEGIN:DAYLIGHT
TZOFFSETFROM:+0100
TZOFFSETTO:+0200
TZNAME:CEST
DTSTART:20140330T010000
END:DAYLIGHT
BEGIN:STANDARD
TZOFFSETFROM:+0200
TZOFFSETTO:+0100
TZNAME:CET
DTSTART:20141026T010000
END:STANDARD
END:VTIMEZONE
BEGIN:VEVENT
DTSTART;VALUE=DATE:20140101
DTEND;VALUE=DATE:20150101
DTSTAMP:20260420T010200
CREATED:20180913T073505Z
LAST-MODIFIED:20181219T145817Z
UID:2596-1388534400-1420070399@www.histoire-vivante.org
SUMMARY:Antiquités médiévales\, Azincourt (62)
DESCRIPTION:Plus de 200 antiquités: armes et armures\, bijoux\, parchemins\, bouclerie\, ustensiles de cuisine\, monnaies\, accessoires vestimentaires\, objets religieux\, jeux et jouets… \nGalerie photo \n\n  \n    \n\n  \n			\n				\n            					\n  						\n							\n															\n  							  							  						\n  						  					\n          					\n					\n\n					\n										\n						Exposition antiquités médiévales\, Azincourt 2007
URL:https://www.histoire-vivante.org/evenement/antiquites-medievales-azincourt-62-2014
LOCATION:Centre Historique Médiéval d’Azincourt\, 24 rue Charles VI\, Azincourt\, 62310\, France
CATEGORIES:Expositions
ATTACH;FMTTYPE=image/jpeg:https://www.histoire-vivante.org/wp-content/uploads/ARMU001-e1536823643509.jpg
END:VEVENT
BEGIN:VEVENT
DTSTART;VALUE=DATE:20140501
DTEND;VALUE=DATE:20140502
DTSTAMP:20260420T010200
CREATED:20190123T101941Z
LAST-MODIFIED:20190124T103710Z
UID:10103-1398902400-1398988799@www.histoire-vivante.org
SUMMARY:Marché Médiéval de l'Ile Charlemagne\, Orléans (45)
DESCRIPTION:Marché médiéval \nDans le cadre des Fêtes de Jeanne d’Arc \nGalerie photo \n\n  \n    \n\n  \n			\n				\n            					\n  						\n							\n															\n  							  							  						\n  						  					\n          					\n					\n\n					\n										\n						Marché Médiéval de l’Ile Charlemagne\, Orléans 2014
URL:https://www.histoire-vivante.org/evenement/marche-medieval-de-l-ile-charlemagne-orleans-45-2014
LOCATION:Ile Charlemagne\, Orléans\, 45000\, France
CATEGORIES:Autres évènements
ATTACH;FMTTYPE=image/gif:https://www.histoire-vivante.org/wp-content/uploads/Affiche-3.gif
END:VEVENT
BEGIN:VEVENT
DTSTART;VALUE=DATE:20140507
DTEND;VALUE=DATE:20140510
DTSTAMP:20260420T010200
CREATED:20190123T101711Z
LAST-MODIFIED:20190124T104500Z
UID:10100-1399420800-1399679999@www.histoire-vivante.org
SUMMARY:Marché Médiéval du Campo Santo\, Orléans (45)
DESCRIPTION:Marché médiéval \nDans le cadre des Fêtes de Jeanne d’Arc \nGalerie photo \n\n  \n    \n\n  \n			\n				\n            					\n  						\n							\n															\n  							  							  						\n  						  					\n          					\n					\n\n					\n										\n						Marché Médiéval du Campo Santo\, Orléans 2014
URL:https://www.histoire-vivante.org/evenement/marche-medieval-du-campo-santo-orleans-45-2014
LOCATION:Campo Santo\, Rue Fernand Rabier\, Orléans\, 45000\, France
CATEGORIES:Autres évènements
ATTACH;FMTTYPE=image/gif:https://www.histoire-vivante.org/wp-content/uploads/Affiche-3.gif
END:VEVENT
BEGIN:VEVENT
DTSTART;VALUE=DATE:20140517
DTEND;VALUE=DATE:20140519
DTSTAMP:20260420T010200
CREATED:20190123T095106Z
LAST-MODIFIED:20190124T104935Z
UID:10087-1400284800-1400457599@www.histoire-vivante.org
SUMMARY:Geekopolis\, Paris (75)
DESCRIPTION:Festival des Cultures de l’Imaginaire \nGalerie photo \n\n  \n    \n\n  \n			\n				\n            					\n  						\n							\n															\n  							  							  						\n  						  					\n          					\n					\n\n					\n										\n						Geekopolis\, Paris 2014
URL:https://www.histoire-vivante.org/evenement/geekopolis-paris-75-2014
LOCATION:Parc des Expositions Porte de Versailles\, Porte de Versaille\, Paris\, 75015\, France
CATEGORIES:Autres évènements
ATTACH;FMTTYPE=image/jpeg:https://www.histoire-vivante.org/wp-content/uploads/Affiche-28.jpg
END:VEVENT
BEGIN:VEVENT
DTSTART;VALUE=DATE:20140518
DTEND;VALUE=DATE:20140519
DTSTAMP:20260420T010200
CREATED:20190123T103641Z
LAST-MODIFIED:20190218T112345Z
UID:10110-1400371200-1400457599@www.histoire-vivante.org
SUMMARY:MédiéVal d’Oise\, Pontoise (95)
DESCRIPTION:Fête médiévale \nThème: « Les Vikings » \nGalerie photo \n\n  \n    \n\n  \n			\n				\n            					\n  						\n							\n															\n  							  							  						\n  						  					\n          					\n					\n\n					\n										\n						Médiéval d’Oise\, Pontoise 2014
URL:https://www.histoire-vivante.org/evenement/medieval-doise-pontoise-95-2014
LOCATION:Pontoise\, Pontoise\, France
CATEGORIES:Autres évènements
ATTACH;FMTTYPE=image/gif:https://www.histoire-vivante.org/wp-content/uploads/Affiche-5.gif
END:VEVENT
BEGIN:VEVENT
DTSTART;VALUE=DATE:20140530
DTEND;VALUE=DATE:20140601
DTSTAMP:20260420T010200
CREATED:20190123T091655Z
LAST-MODIFIED:20190124T110605Z
UID:10067-1401408000-1401580799@www.histoire-vivante.org
SUMMARY:Les Caritas\, Béziers (34)
DESCRIPTION:Fête médiévale \nGalerie photo \n\n  \n    \n\n  \n			\n				\n            					\n  						\n							\n															\n  							  							  						\n  						  					\n          					\n					\n\n					\n										\n						Les Caritas\, Béziers 2014
URL:https://www.histoire-vivante.org/evenement/les-caritats-beziers-34-2014
LOCATION:Béziers\, Allée Paul Riquet\, Béziers\, 34500\, France
CATEGORIES:Autres évènements
ATTACH;FMTTYPE=image/jpeg:https://www.histoire-vivante.org/wp-content/uploads/Affiche-27-e1548234992603.jpg
END:VEVENT
END:VCALENDAR