BEGIN:VCALENDAR
VERSION:2.0
PRODID:-//ApHV - ECPv6.11.2//NONSGML v1.0//EN
CALSCALE:GREGORIAN
METHOD:PUBLISH
X-ORIGINAL-URL:https://www.histoire-vivante.org
X-WR-CALDESC:Évènements pour ApHV
REFRESH-INTERVAL;VALUE=DURATION:PT1H
X-Robots-Tag:noindex
X-PUBLISHED-TTL:PT1H
BEGIN:VTIMEZONE
TZID:Europe/Paris
BEGIN:DAYLIGHT
TZOFFSETFROM:+0100
TZOFFSETTO:+0200
TZNAME:CEST
DTSTART:20140330T010000
END:DAYLIGHT
BEGIN:STANDARD
TZOFFSETFROM:+0200
TZOFFSETTO:+0100
TZNAME:CET
DTSTART:20141026T010000
END:STANDARD
END:VTIMEZONE
BEGIN:VEVENT
DTSTART;VALUE=DATE:20140101
DTEND;VALUE=DATE:20150101
DTSTAMP:20260419T201020
CREATED:20180913T073505Z
LAST-MODIFIED:20181219T145817Z
UID:2596-1388534400-1420070399@www.histoire-vivante.org
SUMMARY:Antiquités médiévales\, Azincourt (62)
DESCRIPTION:Plus de 200 antiquités: armes et armures\, bijoux\, parchemins\, bouclerie\, ustensiles de cuisine\, monnaies\, accessoires vestimentaires\, objets religieux\, jeux et jouets… \nGalerie photo \n\n  \n    \n\n  \n			\n				\n            					\n  						\n							\n															\n  							  							  						\n  						  					\n          					\n					\n\n					\n										\n						Exposition antiquités médiévales\, Azincourt 2007
URL:https://www.histoire-vivante.org/evenement/antiquites-medievales-azincourt-62-2014
LOCATION:Centre Historique Médiéval d’Azincourt\, 24 rue Charles VI\, Azincourt\, 62310\, France
CATEGORIES:Expositions
ATTACH;FMTTYPE=image/jpeg:https://www.histoire-vivante.org/wp-content/uploads/ARMU001-e1536823643509.jpg
END:VEVENT
BEGIN:VEVENT
DTSTART;VALUE=DATE:20140701
DTEND;VALUE=DATE:20150101
DTSTAMP:20260419T201020
CREATED:20180913T070743Z
LAST-MODIFIED:20181219T152507Z
UID:2568-1404172800-1420070399@www.histoire-vivante.org
SUMMARY:"Quel chantier! L'art de la construction au Moyen Age"\, Domrémy la Pucelle (88)
DESCRIPTION:Diverses reconstitutions de fac-similés: ciseau\, coin\, tarière\, truelle\, pige\, corde à 13 nœuds\, chasse\, taillant à grains d’orge\, broche\, compas… \nGalerie photo \n\n  \n    \n\n  \n			\n				\n            					\n  						\n							\n															\n  							  							  						\n  						  					\n          					\n					\n\n					\n										\n						Exposition « Quel chantier! L’art de la construction au Moyen Age »\, Domrémy la Pucelle 2014
URL:https://www.histoire-vivante.org/evenement/quel-chantier-lart-de-la-construction-au-moyen-age-domremy-la-pucelle-88-2014
LOCATION:Centre d’Interprétation Visages de Jeanne\, Domrémy la Pucelle\, 88630\, France
CATEGORIES:Expositions
ATTACH;FMTTYPE=image/jpeg:https://www.histoire-vivante.org/wp-content/uploads/20140816_1046540-e1536826057819.jpg
END:VEVENT
BEGIN:VEVENT
DTSTART;VALUE=DATE:20140724
DTEND;VALUE=DATE:20140822
DTSTAMP:20260419T201020
CREATED:20190123T100548Z
LAST-MODIFIED:20190124T133945Z
UID:10096-1406160000-1408665599@www.histoire-vivante.org
SUMMARY:Animations XIXème siècle\, Mine Témoin\, Alès (30)
DESCRIPTION:Animations XIXème siècle \nGalerie photo \n\n  \n    \n\n  \n			\n				\n            					\n  						\n							\n															\n  							  							  						\n  						  					\n          					\n					\n\n					\n										\n						Animations XIXème siècle\, Mine Témoin\, Alès 2014
URL:https://www.histoire-vivante.org/evenement/animations-xixeme-siecle-mine-temoin-ales-30-2014
LOCATION:Alès\, Alès\, 30100\, France
CATEGORIES:Autres évènements
ATTACH;FMTTYPE=image/jpeg:https://www.histoire-vivante.org/wp-content/uploads/Boutefeu.jpg
END:VEVENT
BEGIN:VEVENT
DTSTART;VALUE=DATE:20140803
DTEND;VALUE=DATE:20140804
DTSTAMP:20260419T201020
CREATED:20190123T093356Z
LAST-MODIFIED:20190124T134430Z
UID:10074-1407024000-1407110399@www.histoire-vivante.org
SUMMARY:Animations médiévales\, Domrémy-la-Pucelle (88)
DESCRIPTION:Animations médiévales \nGalerie photo \n\n  \n    \n\n  \n			\n				\n            					\n  						\n							\n															\n  							  							  						\n  						  					\n          					\n					\n\n					\n										\n						Animations médiévales\, Domrémy-la-Pucelle 2014
URL:https://www.histoire-vivante.org/evenement/animations-medievales-domremy-la-pucelle-88-1-2014
LOCATION:Centre d’Interprétation Visages de Jeanne\, Domrémy la Pucelle\, 88630\, France
CATEGORIES:Autres évènements
ATTACH;FMTTYPE=image/jpeg:https://www.histoire-vivante.org/wp-content/uploads/compagnie-mandalas-6-c-Nad¿ge-Taureau-e1548235966688.jpg
END:VEVENT
BEGIN:VEVENT
DTSTART;VALUE=DATE:20140803
DTEND;VALUE=DATE:20140811
DTSTAMP:20260419T201020
CREATED:20190128T061236Z
LAST-MODIFIED:20190128T061236Z
UID:11128-1407024000-1407715199@www.histoire-vivante.org
SUMMARY:Taverne et banquets médiévaux\, Crèvecoeur-en-Auge (14)
DESCRIPTION:Taverne et banquets médiévaux \nDans le cadre des Médiévales de Crèvecoeur
URL:https://www.histoire-vivante.org/evenement/taverne-et-banquets-medievaux-crevecoeur-en-auge-14-2014
LOCATION:Château de Crèvecoeur\, Crèvecoeur-en-Auge\, 14340\, France
CATEGORIES:Autres évènements
ATTACH;FMTTYPE=image/jpeg:https://www.histoire-vivante.org/wp-content/uploads/Affiche-32-e1548655783575.jpg
END:VEVENT
BEGIN:VEVENT
DTSTART;VALUE=DATE:20140815
DTEND;VALUE=DATE:20140818
DTSTAMP:20260419T201020
CREATED:20190123T092345Z
LAST-MODIFIED:20190124T135116Z
UID:10070-1408060800-1408319999@www.histoire-vivante.org
SUMMARY:Animations médiévales\, Domrémy-la-Pucelle (88)
DESCRIPTION:Animations médiévales \nThème: « Les Bâtisseurs Médiévaux » \nGalerie photo \n\n  \n    \n\n  \n			\n				\n            					\n  						\n							\n															\n  							  							  						\n  						  					\n          					\n					\n\n					\n										\n						Animations médiévales 15 août\, Domrémy-la-Pucelle
URL:https://www.histoire-vivante.org/evenement/animations-medievales-domremy-la-pucelle-88-2-2014
LOCATION:Centre d’Interprétation Visages de Jeanne\, Domrémy la Pucelle\, 88630\, France
CATEGORIES:Autres évènements
ATTACH;FMTTYPE=image/jpeg:https://www.histoire-vivante.org/wp-content/uploads/20140815_130123-e1548235617900.jpg
END:VEVENT
END:VCALENDAR